BEGIN:VCALENDAR
VERSION:2.0
PRODID:-//Godoy Cruz - ECPv4.5.8.1//NONSGML v1.0//EN
CALSCALE:GREGORIAN
METHOD:PUBLISH
X-WR-CALNAME:Godoy Cruz
X-ORIGINAL-URL:https://www.godoycruz.sisargentina.com
X-WR-CALDESC:Events for Godoy Cruz
BEGIN:VEVENT
DTSTART;TZID=UTC-3:20210626T203000
DTEND;TZID=UTC-3:20210626T203000
DTSTAMP:20260422T232141
CREATED:20210616T160618Z
LAST-MODIFIED:20210616T160618Z
UID:78718-1624739400-1624739400@www.godoycruz.sisargentina.com
SUMMARY:"El principio de Arquímedes"
DESCRIPTION:[vc_row][vc_column][vc_column_text]Obra teatral del dramaturgo Josep María Miró. \nUna inquietante trama despierta diferentes prejuicios\, sospechas y cuestionamientos. \nDirección general: Alejandro Conte. \nActuación: Marcela Barbaran\, Matías Lucero\, Joaquín De Lucia y Francisco Roby. \nEntradas en venta:\nBoletería del Teatro Plaza (Colón 27\, Godoy Cruz). Horario de atención: de lunes a viernes\, de 8:30 a 14:30h.\nVía online: http://bit.ly/EntradasPrincipioDeAlquimides \nCupos limitados. Se ruega puntualidad y cumplir con el protocolo sanitario vigente.[/vc_column_text][/vc_column][/vc_row][vc_row][vc_column][vc_single_image image=»78719″ img_size=»full»][/vc_column][/vc_row] \n
URL:https://www.godoycruz.sisargentina.com/evento/el-principio-de-arquimedes/
LOCATION:Colón 27\, Godoy Cruz\, Mendoza\, 5501\, Argentina
ATTACH;FMTTYPE=image/jpeg:https://www.godoycruz.sisargentina.com/wp-content/uploads/2021/06/WhatsApp-Image-2021-06-16-at-11.32.41.jpeg
END:VEVENT
END:VCALENDAR