BEGIN:VCALENDAR
VERSION:2.0
PRODID:-//Godoy Cruz - ECPv4.5.8.1//NONSGML v1.0//EN
CALSCALE:GREGORIAN
METHOD:PUBLISH
X-WR-CALNAME:Godoy Cruz
X-ORIGINAL-URL:https://www.godoycruz.sisargentina.com
X-WR-CALDESC:Events for Godoy Cruz
BEGIN:VEVENT
DTSTART;TZID=UTC-3:20181013T213000
DTEND;TZID=UTC-3:20181013T213000
DTSTAMP:20260425T040708
CREATED:20180926T022107Z
LAST-MODIFIED:20180926T022107Z
UID:53264-1539466200-1539466200@www.godoycruz.sisargentina.com
SUMMARY:El búfalo americano
DESCRIPTION:[vc_row][vc_column][vc_column_text]De David Mamet. \nDirección: Luis Romero. \nProtagonistas: Claudio Rissi\, Roly Serrano y Abel Ayala. \nVenta en boletería del teatro y https://www.1000tickets.com.ar[/vc_column_text][/vc_column][/vc_row][vc_row][vc_column][vc_single_image image=»53265″ img_size=»full»][/vc_column][/vc_row] \n
URL:https://www.godoycruz.sisargentina.com/evento/el-bufalo-americano/
LOCATION:Colón 27\, Godoy Cruz\, Mendoza\, 5501\, Argentina
ATTACH;FMTTYPE=image/jpeg:https://www.godoycruz.sisargentina.com/wp-content/uploads/2018/09/39814932_1915386395163539_8617488958982455296_n.jpg
END:VEVENT
END:VCALENDAR