BEGIN:VCALENDAR
VERSION:2.0
PRODID:-//Godoy Cruz - ECPv4.5.8.1//NONSGML v1.0//EN
CALSCALE:GREGORIAN
METHOD:PUBLISH
X-WR-CALNAME:Godoy Cruz
X-ORIGINAL-URL:https://www.godoycruz.sisargentina.com
X-WR-CALDESC:Events for Godoy Cruz
BEGIN:VEVENT
DTSTART;TZID=UTC-3:20181111T210000
DTEND;TZID=UTC-3:20181111T210000
DTSTAMP:20260425T041010
CREATED:20181105T192113Z
LAST-MODIFIED:20181105T192353Z
UID:54645-1541970000-1541970000@www.godoycruz.sisargentina.com
SUMMARY:“El Asombro Festival”
DESCRIPTION:[vc_row][vc_column][vc_column_text]Gala Asombrosa. \nActo de cierre.[/vc_column_text][/vc_column][/vc_row][vc_row][vc_column][vc_single_image image=»54646″ img_size=»full»][/vc_column][/vc_row] \n
URL:https://www.godoycruz.sisargentina.com/evento/el-asombro-festival-6/
LOCATION:Tomba 54\, Godoy Cruz\, Mendoza\, 5501\, Argentina
ATTACH;FMTTYPE=image/jpeg:https://www.godoycruz.sisargentina.com/wp-content/uploads/2018/11/WhatsApp-Image-2018-11-02-at-13.55.29.jpeg
END:VEVENT
END:VCALENDAR