BEGIN:VCALENDAR
VERSION:2.0
PRODID:-//Godoy Cruz - ECPv4.5.8.1//NONSGML v1.0//EN
CALSCALE:GREGORIAN
METHOD:PUBLISH
X-WR-CALNAME:Godoy Cruz
X-ORIGINAL-URL:https://www.godoycruz.sisargentina.com
X-WR-CALDESC:Events for Godoy Cruz
BEGIN:VEVENT
DTSTART;TZID=UTC-3:20181110T183000
DTEND;TZID=UTC-3:20181110T183000
DTSTAMP:20260425T024424
CREATED:20181105T190605Z
LAST-MODIFIED:20181105T190605Z
UID:54634-1541874600-1541874600@www.godoycruz.sisargentina.com
SUMMARY:“El Asombro Festival”
DESCRIPTION:[vc_row][vc_column][vc_column_text]Sendero “Puente Olive”. Paseo Stare (Sarmiento y Cervantes).      Entrada gratuita. \n18:30. Playa de estacionamiento externa. Actuación de Dan Tiel\, mago destacado de Chile. \n19:00. Playa interior. Show de gran despliegue con el Mago Charly (La Rioja).[/vc_column_text][/vc_column][/vc_row][vc_row][vc_column][vc_single_image image=»54635″ img_size=»full»][/vc_column][/vc_row] \n
URL:https://www.godoycruz.sisargentina.com/evento/el-asombro-festival-4/
ATTACH;FMTTYPE=image/jpeg:https://www.godoycruz.sisargentina.com/wp-content/uploads/2018/11/WhatsApp-Image-2018-11-02-at-13.55.29.jpeg
END:VEVENT
END:VCALENDAR