BEGIN:VCALENDAR
VERSION:2.0
PRODID:-//Godoy Cruz - ECPv4.5.8.1//NONSGML v1.0//EN
CALSCALE:GREGORIAN
METHOD:PUBLISH
X-WR-CALNAME:Godoy Cruz
X-ORIGINAL-URL:https://www.godoycruz.sisargentina.com
X-WR-CALDESC:Events for Godoy Cruz
BEGIN:VEVENT
DTSTART;TZID=UTC-3:20170909T210000
DTEND;TZID=UTC-3:20170909T210000
DTSTAMP:20260426T024253
CREATED:20170908T192908Z
LAST-MODIFIED:20170908T193313Z
UID:41885-1504990800-1504990800@www.godoycruz.sisargentina.com
SUMMARY:El dúo El Entrevero presenta “Cantando sueños”
DESCRIPTION:[vc_row][vc_column][vc_column_text]Espectáculo folclórico[/vc_column_text][vc_single_image image=»41886″ img_size=»full»][/vc_column][/vc_row] \n
URL:https://www.godoycruz.sisargentina.com/evento/duo-entrevero-presenta-cantando-suenos/
LOCATION:Tomba 54\, Godoy Cruz\, Mendoza\, 5501\, Argentina
ATTACH;FMTTYPE=image/jpeg:https://www.godoycruz.sisargentina.com/wp-content/uploads/2017/09/web-sabado-9-cantando-sueños.jpg
END:VEVENT
END:VCALENDAR