BEGIN:VCALENDAR
VERSION:2.0
PRODID:-//Godoy Cruz - ECPv4.5.8.1//NONSGML v1.0//EN
CALSCALE:GREGORIAN
METHOD:PUBLISH
X-WR-CALNAME:Godoy Cruz
X-ORIGINAL-URL:https://www.godoycruz.sisargentina.com
X-WR-CALDESC:Events for Godoy Cruz
BEGIN:VEVENT
DTSTART;TZID=UTC-3:20180218T210000
DTEND;TZID=UTC-3:20180218T210000
DTSTAMP:20260425T180303
CREATED:20180112T152122Z
LAST-MODIFIED:20180113T001735Z
UID:46113-1518987600-1518987600@www.godoycruz.sisargentina.com
SUMMARY:Domingos de Murga y Pop
DESCRIPTION:[vc_row][vc_column][vc_column_text]Actuación de las murgas “Pan Casero” y “La Caciqueña”  \nParque Estación Benegas (Av. del Trabajo y Panamericana)[/vc_column_text][/vc_column][/vc_row][vc_row][vc_column width=»1/2″][vc_single_image image=»46117″ img_size=»full»][/vc_column][vc_column width=»1/2″][vc_single_image image=»46135″ img_size=»full»][/vc_column][/vc_row][vc_row][vc_column][vc_gmaps link=»#E-8_JTNDaWZyYW1lJTIwc3JjJTNEJTIyaHR0cHMlM0ElMkYlMkZ3d3cuZ29vZ2xlLmNvbSUyRm1hcHMlMkZlbWJlZCUzRnBiJTNEJTIxMW0xOCUyMTFtMTIlMjExbTMlMjExZDMzNDcuOTQ3MjYxMTEyNzg2NyUyMTJkLTY4Ljg1NTg4NzQ4NTE5ODI3JTIxM2QtMzIuOTUyNDAxNzgwOTE5MzI0JTIxMm0zJTIxMWYwJTIxMmYwJTIxM2YwJTIxM20yJTIxMWkxMDI0JTIxMmk3NjglMjE0ZjEzLjElMjEzbTMlMjExbTIlMjExczB4OTY3ZTBiYjQxNjczYWFkNSUyNTNBMHg0ZDZiNzNkOTBmZjVmY2FmJTIxMnNQYXJxdWUlMkJFc3RhY2lvbiUyQkJlbmVnYXMlMjE1ZTAlMjEzbTIlMjExc2VzLTQxOSUyMTJzYXIlMjE0djE1MTU3NzAyOTEwMTAlMjIlMjB3aWR0aCUzRCUyMjQwMCUyMiUyMGhlaWdodCUzRCUyMjMwMCUyMiUyMGZyYW1lYm9yZGVyJTNEJTIyMCUyMiUyMHN0eWxlJTNEJTIyYm9yZGVyJTNBMCUyMiUyMGFsbG93ZnVsbHNjcmVlbiUzRSUzQyUyRmlmcmFtZSUzRQ==»][/vc_column][/vc_row] \n
URL:https://www.godoycruz.sisargentina.com/evento/domingos-murga-pop-4/
ATTACH;FMTTYPE=image/jpeg:https://www.godoycruz.sisargentina.com/wp-content/uploads/2018/01/Murga-La-Caciqueña.jpg
END:VEVENT
END:VCALENDAR