BEGIN:VCALENDAR
VERSION:2.0
PRODID:-//Godoy Cruz - ECPv4.5.8.1//NONSGML v1.0//EN
CALSCALE:GREGORIAN
METHOD:PUBLISH
X-WR-CALNAME:Godoy Cruz
X-ORIGINAL-URL:https://www.godoycruz.sisargentina.com
X-WR-CALDESC:Events for Godoy Cruz
BEGIN:VEVENT
DTSTART;TZID=UTC-3:20180204T210000
DTEND;TZID=UTC-3:20180204T210000
DTSTAMP:20260425T175516
CREATED:20180111T151623Z
LAST-MODIFIED:20180113T002314Z
UID:46092-1517778000-1517778000@www.godoycruz.sisargentina.com
SUMMARY:Domingos de Murga y Pop
DESCRIPTION:[vc_row][vc_column][vc_column_text]Recital de Martín Daga y “Palurdo” (Rock) \nParque Estación Benegas (Av. del Trabajo y Panamericana)[/vc_column_text][/vc_column][/vc_row][vc_row][vc_column width=»1/2″][vc_single_image image=»46106″ img_size=»full»][/vc_column][vc_column width=»1/2″][vc_single_image image=»46137″ img_size=»full»][/vc_column][/vc_row][vc_row][vc_column][vc_gmaps link=»#E-8_JTNDaWZyYW1lJTIwc3JjJTNEJTIyaHR0cHMlM0ElMkYlMkZ3d3cuZ29vZ2xlLmNvbSUyRm1hcHMlMkZlbWJlZCUzRnBiJTNEJTIxMW0xNCUyMTFtOCUyMTFtMyUyMTFkNjY5NS44OTQ1MjA3ODAxMTIlMjEyZC02OC44NTgwNzYyJTIxM2QtMzIuOTUyNDAxOCUyMTNtMiUyMTFpMTAyNCUyMTJpNzY4JTIxNGYxMy4xJTIxM20zJTIxMW0yJTIxMXMweDk2N2UwYmI0MTY3M2FhZDUlMjUzQTB4NGQ2YjczZDkwZmY1ZmNhZiUyMTJzUGFycXVlJTJCRXN0YWNpb24lMkJCZW5lZ2FzJTIxNWUwJTIxM20yJTIxMXNlcy00MTklMjEyc2FyJTIxNHYxNTE1NjgyMTMyNTk2JTIyJTIwd2lkdGglM0QlMjI0MDAlMjIlMjBoZWlnaHQlM0QlMjIzMDAlMjIlMjBmcmFtZWJvcmRlciUzRCUyMjAlMjIlMjBzdHlsZSUzRCUyMmJvcmRlciUzQTAlMjIlMjBhbGxvd2Z1bGxzY3JlZW4lM0UlM0MlMkZpZnJhbWUlM0U=»][/vc_column][/vc_row] \n
URL:https://www.godoycruz.sisargentina.com/evento/domingos-murga-pop-2/
ATTACH;FMTTYPE=image/jpeg:https://www.godoycruz.sisargentina.com/wp-content/uploads/2018/01/Martín-Daga-2.jpg
END:VEVENT
END:VCALENDAR