BEGIN:VCALENDAR
VERSION:2.0
PRODID:-//Godoy Cruz - ECPv4.5.8.1//NONSGML v1.0//EN
CALSCALE:GREGORIAN
METHOD:PUBLISH
X-WR-CALNAME:Godoy Cruz
X-ORIGINAL-URL:https://www.godoycruz.sisargentina.com
X-WR-CALDESC:Events for Godoy Cruz
BEGIN:VEVENT
DTSTART;TZID=UTC-3:20231210T200000
DTEND;TZID=UTC-3:20231210T200000
DTSTAMP:20260420T183744
CREATED:20231206T150508Z
LAST-MODIFIED:20231206T150508Z
UID:105856-1702238400-1702238400@www.godoycruz.sisargentina.com
SUMMARY:Si diera vuelta el cielo por la Democracia y por los Derechos Humanos
DESCRIPTION:[vc_row][vc_column][vc_column_text]El Coro Amicana e importantes artistas presentan esta intervención artística\, en el marco del Día de la Restauración de la Democracia en Argentina. \nMás de 25 artistas irán tejiendo canciones\, poesías y narrativas (en off y escenificadas en vivo); junto a imágenes y música coral e instrumental. \nDirección Musical: Mónica Pacheco\, Simón Abecasis. \nPuesta en escena: Federico Ortega. \nSolistas: Iara Woods\, Cristina Vázquez\, Isaac Méndez\, Virginia Quesada. \nInstrumentistas: Luis Jara (aerófonos andinos\, flauta traversa)\, Nico Pelaitay (piano)\, Gabriel Araya (percusión). \nActrices: Marcela Montero\, Selene Búmbalo. \nEdición voces en off: Federico Tula. \nAsistencia Técnica: Francisco Ariel Prado. \nArreglos vocales: Joaquín Martínez Dávila\, Mónica Pacheco. \nArreglos instrumentales: Luis Jara y Nico Pelaitay.[/vc_column_text][/vc_column][/vc_row][vc_row][vc_column][vc_single_image image=»105857″ img_size=»full»][/vc_column][/vc_row] \n
URL:https://www.godoycruz.sisargentina.com/evento/diera-vuelta-cielo-la-democracia-los-derechos-humanos/
ATTACH;FMTTYPE=image/jpeg:https://www.godoycruz.sisargentina.com/wp-content/uploads/2023/12/8db90853-b06f-4f6d-b56d-473dc534224a.jpg
END:VEVENT
END:VCALENDAR