BEGIN:VCALENDAR
VERSION:2.0
PRODID:-//Godoy Cruz - ECPv4.5.8.1//NONSGML v1.0//EN
CALSCALE:GREGORIAN
METHOD:PUBLISH
X-WR-CALNAME:Godoy Cruz
X-ORIGINAL-URL:https://www.godoycruz.sisargentina.com
X-WR-CALDESC:Events for Godoy Cruz
BEGIN:VEVENT
DTSTART;TZID=UTC-3:20220327T210000
DTEND;TZID=UTC-3:20220327T210000
DTSTAMP:20260422T080642
CREATED:20220307T160615Z
LAST-MODIFIED:20220307T160615Z
UID:87221-1648414800-1648414800@www.godoycruz.sisargentina.com
SUMMARY:Diego Capusotto y su maravilloso mundo
DESCRIPTION:[vc_row][vc_column][vc_column_text]El genial humorista y actor llega al Teatro Plaza\, con una desopilante charla abierta. \nHablará de su experiencia en televisión\, cine y teatro\, con su sello cómico. \nTambién hará referencia a su libro de poemas «Lo que teme la noche». \nConducción: Micaela Palermini. \nEntradas en venta: \nBoletería del Teatro Plaza (Colón 27\, Godoy Cruz). Horario de atención: de lunes a sábado\, de 9 a 18h. \nVía online: https://bit.ly/EntradasCapusotto \nSe ruega puntualidad y cumplir con el protocolo sanitario vigente.[/vc_column_text][/vc_column][/vc_row][vc_row][vc_column][vc_single_image image=»87222″ img_size=»full»][/vc_column][/vc_row] \n
URL:https://www.godoycruz.sisargentina.com/evento/diego-capusotto-maravilloso-mundo/
LOCATION:Colón 27\, Godoy Cruz\, Mendoza\, 5501\, Argentina
ATTACH;FMTTYPE=image/jpeg:https://www.godoycruz.sisargentina.com/wp-content/uploads/2022/03/272704396_4231636940271286_6709948154441767084_n.jpg
END:VEVENT
END:VCALENDAR