BEGIN:VCALENDAR
VERSION:2.0
PRODID:-//Godoy Cruz - ECPv4.5.8.1//NONSGML v1.0//EN
CALSCALE:GREGORIAN
METHOD:PUBLISH
X-WR-CALNAME:Godoy Cruz
X-ORIGINAL-URL:https://www.godoycruz.sisargentina.com
X-WR-CALDESC:Events for Godoy Cruz
BEGIN:VEVENT
DTSTART;TZID=UTC-3:20220323T103000
DTEND;TZID=UTC-3:20220323T103000
DTSTAMP:20260422T080811
CREATED:20220322T172329Z
LAST-MODIFIED:20220322T172329Z
UID:87766-1648031400-1648031400@www.godoycruz.sisargentina.com
SUMMARY:Día Nacional de la Memoria por la Verdad y la Justicia
DESCRIPTION:[vc_row][vc_column][vc_column_text]Actos conmemorativos y actividades culturales. \nAgenda: \n10:30 hs. Entrega del «Nunca Más» y libros de Ernesto Sábato a directivos y alumnos de la Escuela Nº 4-139 «Ernesto Sábato». \n21 hs. Inauguración de la muestra fotográfica «Esas ausencias son nuestra presencia”\, de Eduardo Dolengiewich. \n00 hs. Maping por la Memoria. \nEntrada gratuita.[/vc_column_text][/vc_column][/vc_row][vc_row][vc_column][vc_single_image image=»87767″ img_size=»full»][/vc_column][/vc_row] \n
URL:https://www.godoycruz.sisargentina.com/evento/dia-nacional-la-memoria-la-verdad-la-justicia-2/
ATTACH;FMTTYPE=image/jpeg:https://www.godoycruz.sisargentina.com/wp-content/uploads/2022/03/276198239_283351073983809_2870429002322620103_n-1.jpg
END:VEVENT
END:VCALENDAR