BEGIN:VCALENDAR
VERSION:2.0
PRODID:-//Godoy Cruz - ECPv4.5.8.1//NONSGML v1.0//EN
CALSCALE:GREGORIAN
METHOD:PUBLISH
X-WR-CALNAME:Godoy Cruz
X-ORIGINAL-URL:https://www.godoycruz.sisargentina.com
X-WR-CALDESC:Events for Godoy Cruz
BEGIN:VEVENT
DTSTART;TZID=UTC-3:20230913T203000
DTEND;TZID=UTC-3:20230913T203000
DTSTAMP:20260421T051846
CREATED:20230912T171111Z
LAST-MODIFIED:20230912T171111Z
UID:103368-1694637000-1694637000@www.godoycruz.sisargentina.com
SUMMARY:Día Nacional del Bailarín Folklórico
DESCRIPTION:[vc_row][vc_column][vc_column_text]Recordamos al emblemático artista cordobés Santiago Ayala\, «El chúcaro». \nHabrá un espectáculo de danzas y reconocimientos a diferentes hacedores mendocinos del género nacional. \nCompá tus entradas online en https://bit.ly/DíaNacionaldelBailarínFolklórico o en la boletería del teatro\, de lunes a sábado de 9 a 18 hs.[/vc_column_text][/vc_column][/vc_row][vc_row][vc_column][vc_single_image image=»103369″ img_size=»full»][/vc_column][/vc_row] \n
URL:https://www.godoycruz.sisargentina.com/evento/dia-nacional-del-bailarin-folklorico/
LOCATION:Colón 27\, Godoy Cruz\, Mendoza\, 5501\, Argentina
ATTACH;FMTTYPE=image/jpeg:https://www.godoycruz.sisargentina.com/wp-content/uploads/2023/09/370358153_623697683282478_4076342817381255923_n.jpg
END:VEVENT
END:VCALENDAR