BEGIN:VCALENDAR
VERSION:2.0
PRODID:-//Godoy Cruz - ECPv4.5.8.1//NONSGML v1.0//EN
CALSCALE:GREGORIAN
METHOD:PUBLISH
X-WR-CALNAME:Godoy Cruz
X-ORIGINAL-URL:https://www.godoycruz.sisargentina.com
X-WR-CALDESC:Events for Godoy Cruz
BEGIN:VEVENT
DTSTART;TZID=UTC-3:20230819T150000
DTEND;TZID=UTC-3:20230819T190000
DTSTAMP:20260421T050129
CREATED:20230810T153358Z
LAST-MODIFIED:20230810T153358Z
UID:102522-1692457200-1692471600@www.godoycruz.sisargentina.com
SUMMARY:Día de la Niñez en los Barrios
DESCRIPTION:[vc_row][vc_column][vc_column_text]Godoy Cruz te invita a disfrutar al máximo con una imperdible cartelera barrial. \nShows artísticos en vivo\, chocolate e importantes sorteos. \nLa grilla: Circo Pocamosca; El show de los Musilocos. \nCanchita del Barrio Los Barrancos (Coronado y Puerto Rico).[/vc_column_text][/vc_column][/vc_row][vc_row][vc_column][vc_single_image image=»102523″ img_size=»full»][/vc_column][/vc_row] \n
URL:https://www.godoycruz.sisargentina.com/evento/dia-la-ninez-los-barrios-2/
ATTACH;FMTTYPE=image/jpeg:https://www.godoycruz.sisargentina.com/wp-content/uploads/2023/08/WhatsApp-Image-2023-08-10-at-11.31.06-AM.jpeg
END:VEVENT
END:VCALENDAR