BEGIN:VCALENDAR
VERSION:2.0
PRODID:-//Godoy Cruz - ECPv4.5.8.1//NONSGML v1.0//EN
CALSCALE:GREGORIAN
METHOD:PUBLISH
X-WR-CALNAME:Godoy Cruz
X-ORIGINAL-URL:https://www.godoycruz.sisargentina.com
X-WR-CALDESC:Events for Godoy Cruz
BEGIN:VEVENT
DTSTART;TZID=UTC-3:20230820T150000
DTEND;TZID=UTC-3:20230820T150000
DTSTAMP:20260421T051050
CREATED:20230811T150046Z
LAST-MODIFIED:20230811T150046Z
UID:102566-1692543600-1692543600@www.godoycruz.sisargentina.com
SUMMARY:Día de la Niñez en Espacio Arizu - Powercon
DESCRIPTION:[vc_row][vc_column][vc_column_text]Se viene esta mega exposición que muestra lo mejor de la historieta\, el manga y el animé. \nSorteos\, venta de merchandising\, concursos de dibujo y Cosplay. \nCharlas: Fernando Cardozo (Estudio Victrix)\, Mónica Filet (creadora de “Bebé de terror”)\, Claudio Abov (Universo Star Wars). \nMúsica en vivo: banda OST (Original Sound Track). \nEntrada gratuita. \n[/vc_column_text][/vc_column][/vc_row][vc_row][vc_column][vc_single_image image=»102567″ img_size=»full»][/vc_column][/vc_row] \n
URL:https://www.godoycruz.sisargentina.com/evento/dia-la-ninez-espacio-arizu-powercon/
ATTACH;FMTTYPE=image/jpeg:https://www.godoycruz.sisargentina.com/wp-content/uploads/2023/08/363913035_614664794185767_6749310327352792359_n.jpg
END:VEVENT
END:VCALENDAR