BEGIN:VCALENDAR
VERSION:2.0
PRODID:-//Godoy Cruz - ECPv4.5.8.1//NONSGML v1.0//EN
CALSCALE:GREGORIAN
METHOD:PUBLISH
X-WR-CALNAME:Godoy Cruz
X-ORIGINAL-URL:https://www.godoycruz.sisargentina.com
X-WR-CALDESC:Events for Godoy Cruz
BEGIN:VEVENT
DTSTART;TZID=UTC-3:20230428T213000
DTEND;TZID=UTC-3:20230428T213000
DTSTAMP:20260421T125533
CREATED:20230419T172324Z
LAST-MODIFIED:20230419T172324Z
UID:99378-1682717400-1682717400@www.godoycruz.sisargentina.com
SUMMARY:Día Internacional de la Danza
DESCRIPTION:[vc_row][vc_column][vc_column_text]El municipio celebra esta fecha tan importante para el baile a nivel mundial. \nSerá un encuentro que reunirá al Ballet Municipal dirigido por Virginia Paes junto a numerosas academias y estudios. \nInvitados:\nPaula Giuffrida: Danza y Bienestar (Paula Giuffrida).\nTaura Tango (Pablo Fernández).\nEl Estudio (Susan Salazar).\nEspacio Bailado (Mariela Scherbovsky).\nEstudio Estrella (Gabriela y Rocio Magni).\nVanina Gispert “Ballet School” (Vanina Gispert).\nInnova (compañía independiente – Vanina Gispert). \nEntrada gratuita por orden de llegada.[/vc_column_text][/vc_column][/vc_row][vc_row][vc_column][vc_single_image image=»99379″ img_size=»full»][/vc_column][/vc_row] \n
URL:https://www.godoycruz.sisargentina.com/evento/dia-internacional-la-danza/
LOCATION:Colón 27\, Godoy Cruz\, Mendoza\, 5501\, Argentina
ATTACH;FMTTYPE=image/jpeg:https://www.godoycruz.sisargentina.com/wp-content/uploads/2023/04/342194214_606320064495831_1509626665001426895_n.jpg
END:VEVENT
END:VCALENDAR