BEGIN:VCALENDAR
VERSION:2.0
PRODID:-//Godoy Cruz - ECPv4.5.8.1//NONSGML v1.0//EN
CALSCALE:GREGORIAN
METHOD:PUBLISH
X-WR-CALNAME:Godoy Cruz
X-ORIGINAL-URL:https://www.godoycruz.sisargentina.com
X-WR-CALDESC:Events for Godoy Cruz
BEGIN:VEVENT
DTSTART;TZID=UTC-3:20191018T213000
DTEND;TZID=UTC-3:20191018T213000
DTSTAMP:20260424T060339
CREATED:20191018T150527Z
LAST-MODIFIED:20191018T150527Z
UID:63862-1571434200-1571434200@www.godoycruz.sisargentina.com
SUMMARY:Destino San Javier (Show agotado)
DESCRIPTION:[vc_row][vc_column][vc_column_text]El popular y exitoso grupo presenta su nuevo disco “Instinto”. \nEntradas agotadas.[/vc_column_text][/vc_column][/vc_row][vc_row][vc_column][vc_single_image image=»63863″ img_size=»full»][/vc_column][/vc_row] \n
URL:https://www.godoycruz.sisargentina.com/evento/destino-san-javier-show-agotado/
LOCATION:Colón 27\, Godoy Cruz\, Mendoza\, 5501\, Argentina
ATTACH;FMTTYPE=image/jpeg:https://www.godoycruz.sisargentina.com/wp-content/uploads/2019/10/Destino-SJ.jpg
END:VEVENT
END:VCALENDAR