BEGIN:VCALENDAR
VERSION:2.0
PRODID:-//Godoy Cruz - ECPv4.5.8.1//NONSGML v1.0//EN
CALSCALE:GREGORIAN
METHOD:PUBLISH
X-WR-CALNAME:Godoy Cruz
X-ORIGINAL-URL:https://www.godoycruz.sisargentina.com
X-WR-CALDESC:Events for Godoy Cruz
BEGIN:VEVENT
DTSTART;TZID=UTC-3:20240517T213000
DTEND;TZID=UTC-3:20240517T213000
DTSTAMP:20260422T103531
CREATED:20240502T173801Z
LAST-MODIFIED:20240502T173801Z
UID:109615-1715981400-1715981400@www.godoycruz.sisargentina.com
SUMMARY:Destino Circular - Tributo a Virus
DESCRIPTION:[vc_row][vc_column][vc_column_text]Destino Circular\, la banda que rinde tributo a Virus se presenta en el Cine Teatro Plaza. \nSe viene un show imperdible que pondrá en escena el más completo repertorio de la banda de La Plata\, que marcó un hito en la historia del New wave de los ´80. \nHabrá varias sorpresas que se suman a la playlist que el grupo tiene preparado. \nPodés comprar tus entradas online en  https://bit.ly/DestinoCircularTributoVirus o en la boletería del teatro (Colón 27\, Godoy Cruz)\, de lunes a viernes\, de 9 a 16H.[/vc_column_text][/vc_column][/vc_row][vc_row][vc_column][vc_single_image image=»109617″ img_size=»full»][/vc_column][/vc_row] \n
URL:https://www.godoycruz.sisargentina.com/evento/destino-circular-tributo-virus/
LOCATION:Colón 27\, Godoy Cruz\, Mendoza\, 5501\, Argentina
ATTACH;FMTTYPE=image/jpeg:https://www.godoycruz.sisargentina.com/wp-content/uploads/2024/05/MDIA-2fc0ac28.jpg
END:VEVENT
END:VCALENDAR