BEGIN:VCALENDAR
VERSION:2.0
PRODID:-//Godoy Cruz - ECPv4.5.8.1//NONSGML v1.0//EN
CALSCALE:GREGORIAN
METHOD:PUBLISH
X-WR-CALNAME:Godoy Cruz
X-ORIGINAL-URL:https://www.godoycruz.sisargentina.com
X-WR-CALDESC:Events for Godoy Cruz
BEGIN:VEVENT
DTSTART;TZID=UTC-3:20180511T203000
DTEND;TZID=UTC-3:20180511T203000
DTSTAMP:20260425T134532
CREATED:20180509T164508Z
LAST-MODIFIED:20180509T164508Z
UID:49237-1526070600-1526070600@www.godoycruz.sisargentina.com
SUMMARY:Desierto
DESCRIPTION:[vc_row][vc_column][vc_column_text]Teatro – cine.   \nDe José Ramiro Villalba. \nElenco Inacabado.[/vc_column_text][/vc_column][/vc_row][vc_row][vc_column][vc_single_image image=»49238″ img_size=»full»][/vc_column][/vc_row] \n
URL:https://www.godoycruz.sisargentina.com/evento/desierto-2/
LOCATION:Tomba 54\, Godoy Cruz\, Mendoza\, 5501\, Argentina
ATTACH;FMTTYPE=image/jpeg:https://www.godoycruz.sisargentina.com/wp-content/uploads/2018/05/web-MAYO-BM-11.jpg
END:VEVENT
END:VCALENDAR