BEGIN:VCALENDAR
VERSION:2.0
PRODID:-//Godoy Cruz - ECPv4.5.8.1//NONSGML v1.0//EN
CALSCALE:GREGORIAN
METHOD:PUBLISH
X-WR-CALNAME:Godoy Cruz
X-ORIGINAL-URL:https://www.godoycruz.sisargentina.com
X-WR-CALDESC:Events for Godoy Cruz
BEGIN:VEVENT
DTSTART;TZID=UTC-3:20170920T180000
DTEND;TZID=UTC-3:20170920T180000
DTSTAMP:20260426T012106
CREATED:20170908T222916Z
LAST-MODIFIED:20170908T223223Z
UID:41957-1505930400-1505930400@www.godoycruz.sisargentina.com
SUMMARY:Desastre en año nuevo
DESCRIPTION:[vc_row][vc_column][vc_column_text]Hecatombe! Producciones.[/vc_column_text][/vc_column][/vc_row][vc_row][vc_column][vc_single_image image=»41958″ img_size=»full»][/vc_column][/vc_row][vc_row][vc_column][vc_column_text]Meet & Greet (18:00 hs – $700) \nFunción en sala (20:00hs – $350)[/vc_column_text][/vc_column][/vc_row] \n
URL:https://www.godoycruz.sisargentina.com/evento/desastre-ano-nuevo/
LOCATION:Colón 27\, Godoy Cruz\, Mendoza\, 5501\, Argentina
ATTACH;FMTTYPE=image/jpeg:https://www.godoycruz.sisargentina.com/wp-content/uploads/2017/09/Hecatombe-Afiche-Desastre-en-año-nuevo.jpg
END:VEVENT
END:VCALENDAR