BEGIN:VCALENDAR
VERSION:2.0
PRODID:-//Godoy Cruz - ECPv4.5.8.1//NONSGML v1.0//EN
CALSCALE:GREGORIAN
METHOD:PUBLISH
X-WR-CALNAME:Godoy Cruz
X-ORIGINAL-URL:https://www.godoycruz.sisargentina.com
X-WR-CALDESC:Events for Godoy Cruz
BEGIN:VEVENT
DTSTART;TZID=UTC-3:20230917T180000
DTEND;TZID=UTC-3:20230917T180000
DTSTAMP:20260421T031946
CREATED:20230914T154424Z
LAST-MODIFIED:20230914T154424Z
UID:103454-1694973600-1694973600@www.godoycruz.sisargentina.com
SUMMARY:Danzas y afectos del mundo francés
DESCRIPTION:[vc_row][vc_column][vc_column_text]El Coro Universitario de Mendoza junto al Círculo Armónico (agrupación instrumental barroca) presentan un concierto que rinde homenaje a las fastuosas y atractivas composiciones de la música barroca producidas en el país galo. \nEl mismo se propone como cierre del ciclo «Viví Francia»\, organizado por la Alianza Francesa. \nArtistas: Círculo Armónico y Coro Universitario de Mendoza. \nConseguí tu entrada online en https://bit.ly/EntradasMundoFrances o en la boletería de la Nave UNCuyo\, de 18 a 21H.[/vc_column_text][/vc_column][/vc_row][vc_row][vc_column][vc_single_image image=»103457″ img_size=»full»][/vc_column][/vc_row] \n
URL:https://www.godoycruz.sisargentina.com/evento/danzas-afectos-del-mundo-frances/
ATTACH;FMTTYPE=image/jpeg:https://www.godoycruz.sisargentina.com/wp-content/uploads/2023/09/CUADRADO.jpeg
END:VEVENT
END:VCALENDAR