BEGIN:VCALENDAR
VERSION:2.0
PRODID:-//Godoy Cruz - ECPv4.5.8.1//NONSGML v1.0//EN
CALSCALE:GREGORIAN
METHOD:PUBLISH
X-WR-CALNAME:Godoy Cruz
X-ORIGINAL-URL:https://www.godoycruz.sisargentina.com
X-WR-CALDESC:Events for Godoy Cruz
BEGIN:VEVENT
DTSTART;TZID=UTC-3:20220312T170000
DTEND;TZID=UTC-3:20220312T170000
DTSTAMP:20260422T073806
CREATED:20220308T134000Z
LAST-MODIFIED:20220308T134000Z
UID:87256-1647104400-1647104400@www.godoycruz.sisargentina.com
SUMMARY:Danxe Feria Multiforme
DESCRIPTION:[vc_row][vc_column][vc_column_text]Una feria con diferentes propuestas llega al Espacio Arizu. \nHabrá feriantes\, patio de comidas\, música en vivo\, lecturas y múltiples intervenciones artísticas. \nEntrada gratuita. \nAdquirila vía online en www.entradaweb.com.ar \nSe ruega puntualidad y cumplir con el protocolo sanitario vigente.[/vc_column_text][/vc_column][/vc_row][vc_row][vc_column][vc_single_image image=»87257″ img_size=»full»][/vc_column][/vc_row] \n
URL:https://www.godoycruz.sisargentina.com/evento/danxe-feria-multiforme/
ATTACH;FMTTYPE=image/jpeg:https://www.godoycruz.sisargentina.com/wp-content/uploads/2022/03/WhatsApp-Image-2022-03-07-at-11.15.42-AM.jpeg
END:VEVENT
END:VCALENDAR