BEGIN:VCALENDAR
VERSION:2.0
PRODID:-//Godoy Cruz - ECPv4.5.8.1//NONSGML v1.0//EN
CALSCALE:GREGORIAN
METHOD:PUBLISH
X-WR-CALNAME:Godoy Cruz
X-ORIGINAL-URL:https://www.godoycruz.sisargentina.com
X-WR-CALDESC:Events for Godoy Cruz
BEGIN:VEVENT
DTSTART;TZID=UTC-3:20231125T160000
DTEND;TZID=UTC-3:20231125T160000
DTSTAMP:20260420T202535
CREATED:20231121T164201Z
LAST-MODIFIED:20231121T164201Z
UID:105275-1700928000-1700928000@www.godoycruz.sisargentina.com
SUMMARY:Cuidados básicos y mantenimiento de instrumentos de cuerda
DESCRIPTION:[vc_row][vc_column][vc_column_text]Masterclass y Conversatorio con los luthiers Juan Pablo Vargas y José Bravin. \nTipos de instrumentos: guitarra\, bajo\, ukelele\, charango\, cavaquinho\, entre otros. \nTemas a abordar: cuidados básicos y mantenimiento\, funcionalidad\, octavación\, limpieza general. \nEntrada gratuita.[/vc_column_text][/vc_column][/vc_row][vc_row][vc_column][vc_single_image image=»105276″ img_size=»full»][/vc_column][/vc_row] \n
URL:https://www.godoycruz.sisargentina.com/evento/cuidados-basicos-mantenimiento-instrumentos-cuerda/
LOCATION:Tomba 54\, Godoy Cruz\, Mendoza\, 5501\, Argentina
ATTACH;FMTTYPE=image/jpeg:https://www.godoycruz.sisargentina.com/wp-content/uploads/2023/11/IMG-20231116-WA0004.jpg
END:VEVENT
END:VCALENDAR