BEGIN:VCALENDAR
VERSION:2.0
PRODID:-//Godoy Cruz - ECPv4.5.8.1//NONSGML v1.0//EN
CALSCALE:GREGORIAN
METHOD:PUBLISH
X-WR-CALNAME:Godoy Cruz
X-ORIGINAL-URL:https://www.godoycruz.sisargentina.com
X-WR-CALDESC:Events for Godoy Cruz
BEGIN:VEVENT
DTSTART;TZID=UTC-3:20220909T210000
DTEND;TZID=UTC-3:20220909T210000
DTSTAMP:20260421T220608
CREATED:20220907T225428Z
LAST-MODIFIED:20220907T225428Z
UID:92798-1662757200-1662757200@www.godoycruz.sisargentina.com
SUMMARY:Cuestión Cine
DESCRIPTION:[vc_row][vc_column][vc_column_text]Junto a Cineclub Stocco te invitamos a formar parte de nuestro ciclo «Cuestión Cine» en la Casa de la Cultura y la Memoria para compartir la proyección de “Les quatre cents coups” (Los 400 golpes)\nDirección: François Truffaut[/vc_column_text][/vc_column][/vc_row][vc_row][vc_column][vc_single_image image=»92799″ img_size=»full»][/vc_column][/vc_row] \n
URL:https://www.godoycruz.sisargentina.com/evento/cuestion-cine/
LOCATION:Lavalle 88\, Godoy Cruz\, Mendoza (sólo Deptos. Capital\, Luján de Cuyo\, Las Heras\, Maipú\, Guaymallén\, Godoy Cruz\, Tunuyán y Tupungato)\, 5519\, Argentina
ATTACH;FMTTYPE=image/jpeg:https://www.godoycruz.sisargentina.com/wp-content/uploads/2022/09/cuestioncine.jpg
END:VEVENT
END:VCALENDAR