BEGIN:VCALENDAR
VERSION:2.0
PRODID:-//Godoy Cruz - ECPv4.5.8.1//NONSGML v1.0//EN
CALSCALE:GREGORIAN
METHOD:PUBLISH
X-WR-CALNAME:Godoy Cruz
X-ORIGINAL-URL:https://www.godoycruz.sisargentina.com
X-WR-CALDESC:Events for Godoy Cruz
BEGIN:VEVENT
DTSTART;TZID=UTC-3:20190619T190000
DTEND;TZID=UTC-3:20190619T190000
DTSTAMP:20260424T150443
CREATED:20190618T141047Z
LAST-MODIFIED:20190618T141047Z
UID:60116-1560970800-1560970800@www.godoycruz.sisargentina.com
SUMMARY:Cristoforo\, a puertas abiertas
DESCRIPTION:[vc_row][vc_column][vc_column_text]Muestra plástica de las artistas Lucia Coria\, Susana Villegas y Diana Córdoba. \nMúsica en vivo: “La Contreras”\, banda flamenca liderada por Mariela Contreras. \nInformes: 4133127. Entrada gratuita (limitada a la capacidad de la sala). \nDías y horarios: de martes a viernes de 10:00 a 18:00. Fines de semana: de 15:00 a 18:00.[/vc_column_text][/vc_column][/vc_row][vc_row][vc_column][vc_single_image image=»60117″ img_size=»full»][/vc_column][/vc_row] \n
URL:https://www.godoycruz.sisargentina.com/evento/cristoforo-puertas-abiertas/
ATTACH;FMTTYPE=image/jpeg:https://www.godoycruz.sisargentina.com/wp-content/uploads/2019/06/WhatsApp-Image-2019-06-15-at-18.40.10.jpeg
END:VEVENT
END:VCALENDAR