BEGIN:VCALENDAR
VERSION:2.0
PRODID:-//Godoy Cruz - ECPv4.5.8.1//NONSGML v1.0//EN
CALSCALE:GREGORIAN
METHOD:PUBLISH
X-WR-CALNAME:Godoy Cruz
X-ORIGINAL-URL:https://www.godoycruz.sisargentina.com
X-WR-CALDESC:Events for Godoy Cruz
BEGIN:VEVENT
DTSTART;TZID=UTC-3:20211223T213000
DTEND;TZID=UTC-3:20211223T213000
DTSTAMP:20260422T125244
CREATED:20211220T170325Z
LAST-MODIFIED:20211220T170325Z
UID:85105-1640295000-1640295000@www.godoycruz.sisargentina.com
SUMMARY:Concierto Navideño en San Vicente Ferrer
DESCRIPTION:[vc_row][vc_column][vc_column_text]La Orquesta Barroca de Mendoza interpreta diferentes obras que realzan el espíritu navideño. \nArtistas: Coro Cantapueblo y Coral Santa María. \nCantantes solistas: Tato Caparotta\, Jimena Semiz\, Gabriel Sánchez\, Rocio Asimonti y Eugenia Nieva. \nDirección: Mtro. Mariano Hugo Peralta \nEntrada gratuita. \nSe ruega puntualidad y cumplir con el protocolo sanitario vigente. \n[/vc_column_text][/vc_column][/vc_row][vc_row][vc_column][vc_single_image image=»85106″ img_size=»full»][/vc_column][/vc_row] \n
URL:https://www.godoycruz.sisargentina.com/evento/concierto-navideno-san-vicente-ferrer/
ATTACH;FMTTYPE=image/jpeg:https://www.godoycruz.sisargentina.com/wp-content/uploads/2021/12/WhatsApp-Image-2021-12-20-at-12.57.39.jpeg
END:VEVENT
END:VCALENDAR