BEGIN:VCALENDAR
VERSION:2.0
PRODID:-//Godoy Cruz - ECPv4.5.8.1//NONSGML v1.0//EN
CALSCALE:GREGORIAN
METHOD:PUBLISH
X-WR-CALNAME:Godoy Cruz
X-ORIGINAL-URL:https://www.godoycruz.sisargentina.com
X-WR-CALDESC:Events for Godoy Cruz
BEGIN:VEVENT
DTSTART;TZID=UTC-3:20190927T203000
DTEND;TZID=UTC-3:20190927T223000
DTSTAMP:20260424T073723
CREATED:20190926T145425Z
LAST-MODIFIED:20190926T145425Z
UID:63200-1569616200-1569623400@www.godoycruz.sisargentina.com
SUMMARY:Concierto del Coro Cantapueblo
DESCRIPTION:[vc_row][vc_column][vc_column_text]Dos funciones: 20:30 y 22:30. \nEl objetivo será  recaudar fondos para que la agrupación municipal pueda concretar su viaje al encuentro internacional de coros en Uruguay. \nEntrada general: $100.[/vc_column_text][/vc_column][/vc_row][vc_row][vc_column][vc_single_image image=»63201″ img_size=»full»][/vc_column][/vc_row] \n
URL:https://www.godoycruz.sisargentina.com/evento/concierto-del-coro-cantapueblo/
LOCATION:Tomba 54\, Godoy Cruz\, Mendoza\, 5501\, Argentina
ATTACH;FMTTYPE=image/jpeg:https://www.godoycruz.sisargentina.com/wp-content/uploads/2019/09/Coro-Cantapueblo.jpeg
END:VEVENT
END:VCALENDAR