BEGIN:VCALENDAR
VERSION:2.0
PRODID:-//Godoy Cruz - ECPv4.5.8.1//NONSGML v1.0//EN
CALSCALE:GREGORIAN
METHOD:PUBLISH
X-WR-CALNAME:Godoy Cruz
X-ORIGINAL-URL:https://www.godoycruz.sisargentina.com
X-WR-CALDESC:Events for Godoy Cruz
BEGIN:VEVENT
DTSTART;TZID=UTC-3:20170924T200000
DTEND;TZID=UTC-3:20170924T200000
DTSTAMP:20260426T024154
CREATED:20170909T000634Z
LAST-MODIFIED:20170909T000820Z
UID:42000-1506283200-1506283200@www.godoycruz.sisargentina.com
SUMMARY:Concierto de gala
DESCRIPTION:[vc_row][vc_column][vc_column_text]Armando Manzanero y Verónica Cangemi cantan a dúo.[/vc_column_text][/vc_column][/vc_row][vc_row][vc_column][vc_single_image image=»42001″ img_size=»full»][vc_column_text]Entrada libre y gratuita. \nSector preferencial\, a beneficio de FUNDAVITA.[/vc_column_text][/vc_column][/vc_row] \n
URL:https://www.godoycruz.sisargentina.com/evento/concierto-de-gala/
ATTACH;FMTTYPE=image/jpeg:https://www.godoycruz.sisargentina.com/wp-content/uploads/2017/09/cangemi-manzanero.jpg
END:VEVENT
END:VCALENDAR