BEGIN:VCALENDAR
VERSION:2.0
PRODID:-//Godoy Cruz - ECPv4.5.8.1//NONSGML v1.0//EN
CALSCALE:GREGORIAN
METHOD:PUBLISH
X-WR-CALNAME:Godoy Cruz
X-ORIGINAL-URL:https://www.godoycruz.sisargentina.com
X-WR-CALDESC:Events for Godoy Cruz
BEGIN:VEVENT
DTSTART;TZID=UTC-3:20220917T090000
DTEND;TZID=UTC-3:20220917T162700
DTSTAMP:20260421T221914
CREATED:20220916T162746Z
LAST-MODIFIED:20220918T141001Z
UID:93207-1663405200-1663432020@www.godoycruz.sisargentina.com
SUMMARY:Concierto de Aranjuez en el Cine Teatro Plaza
DESCRIPTION:[vc_row][vc_column][vc_column_text] \n\n\n\n\n\n\nEsta popular obra será interpretada por la Orquesta Barroca de Mendoza y el guitarrista Federico Tomba\, como artista invitado\, bajo la dirección del maestro Mariano Peralta. \n\n\n\n\n\n\n\n[/vc_column_text][/vc_column][/vc_row][vc_row][vc_column][vc_single_image image=»93208″ img_size=»full»][/vc_column][/vc_row] \n
URL:https://www.godoycruz.sisargentina.com/evento/concierto-aranjuez-cine-teatro-plaza/
LOCATION:Colon 27\, Godoy Cruz\, Mendoza\, Argentina
ATTACH;FMTTYPE=image/jpeg:https://www.godoycruz.sisargentina.com/wp-content/uploads/2022/09/ConciertoDeAranjuez.jpeg
END:VEVENT
END:VCALENDAR