BEGIN:VCALENDAR
VERSION:2.0
PRODID:-//Godoy Cruz - ECPv4.5.8.1//NONSGML v1.0//EN
CALSCALE:GREGORIAN
METHOD:PUBLISH
X-WR-CALNAME:Godoy Cruz
X-ORIGINAL-URL:https://www.godoycruz.sisargentina.com
X-WR-CALDESC:Events for Godoy Cruz
BEGIN:VEVENT
DTSTART;TZID=UTC-3:20180127T210000
DTEND;TZID=UTC-3:20180127T210000
DTSTAMP:20260425T194524
CREATED:20180124T172501Z
LAST-MODIFIED:20180124T172501Z
UID:46318-1517086800-1517086800@www.godoycruz.sisargentina.com
SUMMARY:Clásicos del Cine Universal
DESCRIPTION:[vc_row][vc_column][vc_column_text]Películas en el Domo del Museo Ferroviario. 21:00. Entrada gratuita (cupos limitados) \nProyección de: «El violinista en el tejado” («The fiddler on the roof») . 1971. EEUU . 181 min. ATP \nDirección: Norman Jewison \nParque Estación Benegas ( Av. del Trabajo y Panamericana)[/vc_column_text][/vc_column][/vc_row][vc_row][vc_column][vc_single_image image=»46321″ img_size=»full»][/vc_column][/vc_row][vc_row][vc_column][vc_gmaps link=»#E-8_JTNDaWZyYW1lJTIwc3JjJTNEJTIyaHR0cHMlM0ElMkYlMkZ3d3cuZ29vZ2xlLmNvbSUyRm1hcHMlMkZlbWJlZCUzRnBiJTNEJTIxMW0xOCUyMTFtMTIlMjExbTMlMjExZDMzNDcuOTQ3NDMxNjE1NzA2NiUyMTJkLTY4Ljg1NTg4NzQ4NTMxMjU5JTIxM2QtMzIuOTUyMzk3Mjc5NTA4MzU0JTIxMm0zJTIxMWYwJTIxMmYwJTIxM2YwJTIxM20yJTIxMWkxMDI0JTIxMmk3NjglMjE0ZjEzLjElMjEzbTMlMjExbTIlMjExczB4OTY3ZTBiYjQxNjczYWFkNSUyNTNBMHg0ZDZiNzNkOTBmZjVmY2FmJTIxMnNQYXJxdWUlMkJFc3RhY2lvbiUyQkJlbmVnYXMlMjE1ZTAlMjEzbTIlMjExc2VzLTQxOSUyMTJzYXIlMjE0djE1MTY4MTM1MTE3NzclMjIlMjB3aWR0aCUzRCUyMjQwMCUyMiUyMGhlaWdodCUzRCUyMjMwMCUyMiUyMGZyYW1lYm9yZGVyJTNEJTIyMCUyMiUyMHN0eWxlJTNEJTIyYm9yZGVyJTNBMCUyMiUyMGFsbG93ZnVsbHNjcmVlbiUzRSUzQyUyRmlmcmFtZSUzRQ==»][/vc_column][/vc_row] \n
URL:https://www.godoycruz.sisargentina.com/evento/clasicos-del-cine-universal-4/
ATTACH;FMTTYPE=image/jpeg:https://www.godoycruz.sisargentina.com/wp-content/uploads/2018/01/El-violinista-en-el-tejado.jpg
END:VEVENT
END:VCALENDAR