BEGIN:VCALENDAR
VERSION:2.0
PRODID:-//Godoy Cruz - ECPv4.5.8.1//NONSGML v1.0//EN
CALSCALE:GREGORIAN
METHOD:PUBLISH
X-WR-CALNAME:Godoy Cruz
X-ORIGINAL-URL:https://www.godoycruz.sisargentina.com
X-WR-CALDESC:Events for Godoy Cruz
BEGIN:VEVENT
DTSTART;TZID=UTC-3:20180224T210000
DTEND;TZID=UTC-3:20180224T210000
DTSTAMP:20260425T181417
CREATED:20180222T180601Z
LAST-MODIFIED:20180222T180601Z
UID:47068-1519506000-1519506000@www.godoycruz.sisargentina.com
SUMMARY:Clásicos del Cine Universal
DESCRIPTION:[vc_row][vc_column][vc_column_text]Películas en el Domo del Museo Ferroviario. 21:00. Entrada gratuita (cupos limitados) \nProyección de: “El gran dictador” (“The great dictator”) . 1940. EEUU. 128 min. \nDirección: Charles Chaplin \nParque Estación Benegas ( Av. del Trabajo y Panamericana)[/vc_column_text][/vc_column][/vc_row][vc_row][vc_column][vc_single_image image=»47069″ img_size=»full»][/vc_column][/vc_row][vc_row][vc_column][vc_gmaps link=»#E-8_JTNDaWZyYW1lJTIwc3JjJTNEJTIyaHR0cHMlM0ElMkYlMkZ3d3cuZ29vZ2xlLmNvbSUyRm1hcHMlMkZlbWJlZCUzRnBiJTNEJTIxMW0xOCUyMTFtMTIlMjExbTMlMjExZDMzNDcuOTkwOTkwMjUxMjgxMyUyMTJkLTY4Ljg1Njk1NjI4NTMxMjY1JTIxM2QtMzIuOTUxMjQ3Mjc5NDUwMjQlMjEybTMlMjExZjAlMjEyZjAlMjEzZjAlMjEzbTIlMjExaTEwMjQlMjEyaTc2OCUyMTRmMTMuMSUyMTNtMyUyMTFtMiUyMTFzMHg5NjdlMGJiNDRkNmI3MTg5JTI1M0EweGYwZmVlYWRkNGZjMjE5MGIlMjEyc1BhcnF1ZSUyQkJlbmVnYXMlMjUyQyUyQkdvZG95JTJCQ3J1eiUyMTVlMCUyMTNtMiUyMTFzZXMtNDE5JTIxMnNhciUyMTR2MTUxOTMyMjExNDU4NSUyMiUyMHdpZHRoJTNEJTIyNDAwJTIyJTIwaGVpZ2h0JTNEJTIyMzAwJTIyJTIwZnJhbWVib3JkZXIlM0QlMjIwJTIyJTIwc3R5bGUlM0QlMjJib3JkZXIlM0EwJTIyJTIwYWxsb3dmdWxsc2NyZWVuJTNFJTNDJTJGaWZyYW1lJTNF»][/vc_column][/vc_row] \n
URL:https://www.godoycruz.sisargentina.com/evento/clasicos-del-cine-universal-11/
ATTACH;FMTTYPE=image/jpeg:https://www.godoycruz.sisargentina.com/wp-content/uploads/2018/02/Charles-Chaplin-El-gran-dictador.jpg
END:VEVENT
END:VCALENDAR