BEGIN:VCALENDAR
VERSION:2.0
PRODID:-//Godoy Cruz - ECPv4.5.8.1//NONSGML v1.0//EN
CALSCALE:GREGORIAN
METHOD:PUBLISH
X-WR-CALNAME:Godoy Cruz
X-ORIGINAL-URL:https://www.godoycruz.sisargentina.com
X-WR-CALDESC:Events for Godoy Cruz
BEGIN:VEVENT
DTSTART;TZID=UTC-3:20210321T210000
DTEND;TZID=UTC-3:20210321T210000
DTSTAMP:20260423T021830
CREATED:20210318T135248Z
LAST-MODIFIED:20210318T135248Z
UID:75869-1616360400-1616360400@www.godoycruz.sisargentina.com
SUMMARY:Clásica y Patrimonial
DESCRIPTION:[vc_row][vc_column][vc_column_text]Ciclo de música. \nConciertos con destacados artistas y conjuntos. \nConcierto de María Graciela Armendariz y Leonardo Pittella. \nEntrada gratuita. Cupos limitados (50 localidades).[/vc_column_text][/vc_column][/vc_row][vc_row][vc_column][vc_single_image image=»75870″ img_size=»full»][/vc_column][/vc_row] \n
URL:https://www.godoycruz.sisargentina.com/evento/clasica-y-patrimonial-2/
ATTACH;FMTTYPE=image/jpeg:https://www.godoycruz.sisargentina.com/wp-content/uploads/2021/03/WhatsApp-Image-2021-03-17-at-13.49.06.jpeg
END:VEVENT
END:VCALENDAR