BEGIN:VCALENDAR
VERSION:2.0
PRODID:-//Godoy Cruz - ECPv4.5.8.1//NONSGML v1.0//EN
CALSCALE:GREGORIAN
METHOD:PUBLISH
X-WR-CALNAME:Godoy Cruz
X-ORIGINAL-URL:https://www.godoycruz.sisargentina.com
X-WR-CALDESC:Events for Godoy Cruz
BEGIN:VEVENT
DTSTART;TZID=UTC-3:20210926T210000
DTEND;TZID=UTC-3:20210926T210000
DTSTAMP:20260422T203700
CREATED:20210922T154830Z
LAST-MODIFIED:20210922T154830Z
UID:82048-1632690000-1632690000@www.godoycruz.sisargentina.com
SUMMARY:Clásica & Patrimonial en San Vicente Ferrer
DESCRIPTION:[vc_row][vc_column][vc_column_text]Ciclo de conciertos de música clásica con destacados referentes. \nArtista: Sebastián Alcaraz & Ensamble Cruz del Sur. \nEntradas gratuitas\, limitadas y por órden de llegada. \nSe ruega puntualidad y cumplir con el protocolo sanitario vigente.[/vc_column_text][/vc_column][/vc_row][vc_row][vc_column][vc_single_image image=»82049″ img_size=»full»][/vc_column][/vc_row] \n
URL:https://www.godoycruz.sisargentina.com/evento/clasica-patrimonial-san-vicente-ferrer/
ATTACH;FMTTYPE=image/jpeg:https://www.godoycruz.sisargentina.com/wp-content/uploads/2021/09/242161126_2117038975119036_1539429731213444746_n.jpg
END:VEVENT
END:VCALENDAR