BEGIN:VCALENDAR
VERSION:2.0
PRODID:-//Godoy Cruz - ECPv4.5.8.1//NONSGML v1.0//EN
CALSCALE:GREGORIAN
METHOD:PUBLISH
X-WR-CALNAME:Godoy Cruz
X-ORIGINAL-URL:https://www.godoycruz.sisargentina.com
X-WR-CALDESC:Events for Godoy Cruz
BEGIN:VEVENT
DTSTART;TZID=UTC-3:20230317T220000
DTEND;TZID=UTC-3:20230317T220000
DTSTAMP:20260421T144255
CREATED:20230301T155118Z
LAST-MODIFIED:20230301T155118Z
UID:97962-1679090400-1679090400@www.godoycruz.sisargentina.com
SUMMARY:Circus Magenta Alto voltaje
DESCRIPTION:[vc_row][vc_column][vc_column_text]Se viene una novedosa propuesta que combina circo\, humor\, terror y placer. \nFunciones para mayores de 16 años. \nElenco: Virgina Bernad\, Agustín Lorenzo\, Carlos Lorenzi\, Ángel Urano\, Lola Urquiza\, Andrés Albarracín\, Nahuel Cuello// Nemesis inside\,Agustina Priore Seru. \nMusica en vivo: Chorinferno. \nDirección: María Virginia Bernad \nEntradas en venta: a través de https://bit.ly/EntradasCircusMagenta (anticipadas) o en la taquilla del lugar el mismo día de la función.[/vc_column_text][/vc_column][/vc_row][vc_row][vc_column][vc_single_image image=»97964″ img_size=»full»][/vc_column][/vc_row] \n
URL:https://www.godoycruz.sisargentina.com/evento/circus-magenta-alto-voltaje/
ATTACH;FMTTYPE=image/jpeg:https://www.godoycruz.sisargentina.com/wp-content/uploads/2023/03/FLAYER-1.jpg
END:VEVENT
END:VCALENDAR