BEGIN:VCALENDAR
VERSION:2.0
PRODID:-//Godoy Cruz - ECPv4.5.8.1//NONSGML v1.0//EN
CALSCALE:GREGORIAN
METHOD:PUBLISH
X-WR-CALNAME:Godoy Cruz
X-ORIGINAL-URL:https://www.godoycruz.sisargentina.com
X-WR-CALDESC:Events for Godoy Cruz
BEGIN:VEVENT
DTSTART;TZID=UTC-3:20230225T193000
DTEND;TZID=UTC-3:20230225T193000
DTSTAMP:20260421T155519
CREATED:20230223T155408Z
LAST-MODIFIED:20230223T155408Z
UID:97796-1677353400-1677353400@www.godoycruz.sisargentina.com
SUMMARY:Circuito Cultural Barrial
DESCRIPTION:[vc_row][vc_column][vc_column_text]Las tardes tienen entretenimiento asegurado\, con puestas que incluyen magia\, circo\, payasos\, títeres\, música y mucha diversión. \nActuación del Mago Ludiem. \nParque Mitre.[/vc_column_text][/vc_column][/vc_row][vc_row][vc_column][vc_single_image image=»97797″ img_size=»full»][/vc_column][/vc_row] \n
URL:https://www.godoycruz.sisargentina.com/evento/circuito-cultural-barrial-27/
ATTACH;FMTTYPE=image/jpeg:https://www.godoycruz.sisargentina.com/wp-content/uploads/2023/02/332190651_960719681622653_8332041545642950686_n.jpg
END:VEVENT
END:VCALENDAR