BEGIN:VCALENDAR
VERSION:2.0
PRODID:-//Godoy Cruz - ECPv4.5.8.1//NONSGML v1.0//EN
CALSCALE:GREGORIAN
METHOD:PUBLISH
X-WR-CALNAME:Godoy Cruz
X-ORIGINAL-URL:https://www.godoycruz.sisargentina.com
X-WR-CALDESC:Events for Godoy Cruz
BEGIN:VEVENT
DTSTART;TZID=UTC-3:20220312T190000
DTEND;TZID=UTC-3:20220312T190000
DTSTAMP:20260422T080153
CREATED:20220311T174505Z
LAST-MODIFIED:20220311T174505Z
UID:87456-1647111600-1647111600@www.godoycruz.sisargentina.com
SUMMARY:Circuito Cultural Barrial
DESCRIPTION:[vc_row][vc_column][vc_column_text]Espectáculos para toda la familia\, en distintos barrios de Godoy Cruz. \nFunción: \n“Un olvido olvidado”\, de Elenco Macanudo Teatro. \nBarrio Gas del Estado (Salvador Arias y San Luis). \nEntrada gratuita.[/vc_column_text][/vc_column][/vc_row][vc_row][vc_column][vc_single_image image=»87459″ img_size=»full»][/vc_column][/vc_row] \n
URL:https://www.godoycruz.sisargentina.com/evento/circuito-cultural-barrial-22/
ATTACH;FMTTYPE=image/jpeg:https://www.godoycruz.sisargentina.com/wp-content/uploads/2022/03/WhatsApp-Image-2022-03-11-at-11.56.16-AM.jpeg
END:VEVENT
END:VCALENDAR