BEGIN:VCALENDAR
VERSION:2.0
PRODID:-//Godoy Cruz - ECPv4.5.8.1//NONSGML v1.0//EN
CALSCALE:GREGORIAN
METHOD:PUBLISH
X-WR-CALNAME:Godoy Cruz
X-ORIGINAL-URL:https://www.godoycruz.sisargentina.com
X-WR-CALDESC:Events for Godoy Cruz
BEGIN:VEVENT
DTSTART;TZID=UTC-3:20210411T180000
DTEND;TZID=UTC-3:20210411T180000
DTSTAMP:20260423T004740
CREATED:20210405T181559Z
LAST-MODIFIED:20210405T181559Z
UID:76392-1618164000-1618164000@www.godoycruz.sisargentina.com
SUMMARY:“Circuito Cultural Barrial”
DESCRIPTION:[vc_row][vc_column][vc_column_text]Espectáculos infantiles para toda la familia. \nMurga Negros Sudakas y “El pirata diente de lata”. \nElenco: Tía Tomasa. \nAnfiteatro del Barrio La Estanzuela.[/vc_column_text][/vc_column][/vc_row][vc_row][vc_column][vc_single_image image=»76393″ img_size=»full»][/vc_column][/vc_row] \n
URL:https://www.godoycruz.sisargentina.com/evento/circuito-cultural-barrial-21/
ATTACH;FMTTYPE=image/jpeg:https://www.godoycruz.sisargentina.com/wp-content/uploads/2021/04/WhatsApp-Image-2021-04-05-at-12.26.35-1.jpeg
END:VEVENT
END:VCALENDAR