BEGIN:VCALENDAR
VERSION:2.0
PRODID:-//Godoy Cruz - ECPv4.5.8.1//NONSGML v1.0//EN
CALSCALE:GREGORIAN
METHOD:PUBLISH
X-WR-CALNAME:Godoy Cruz
X-ORIGINAL-URL:https://www.godoycruz.sisargentina.com
X-WR-CALDESC:Events for Godoy Cruz
BEGIN:VEVENT
DTSTART;TZID=UTC-3:20210205T193000
DTEND;TZID=UTC-3:20210205T193000
DTSTAMP:20260423T045259
CREATED:20210203T172952Z
LAST-MODIFIED:20210203T172952Z
UID:74491-1612553400-1612553400@www.godoycruz.sisargentina.com
SUMMARY:“Circuito Cultural Barrial”
DESCRIPTION:[vc_row][vc_column][vc_column_text]Espectáculos infantiles. \n“Mi vecino el topo”. \nElenco: La Oruga. \nBarrio La Gloria (Plaza R. Videla).[/vc_column_text][/vc_column][/vc_row][vc_row][vc_column][vc_single_image image=»74493″ img_size=»full»][/vc_column][/vc_row] \n
URL:https://www.godoycruz.sisargentina.com/evento/circuito-cultural-barrial-2/
ATTACH;FMTTYPE=image/jpeg:https://www.godoycruz.sisargentina.com/wp-content/uploads/2021/02/WhatsApp-Image-2021-02-02-at-17.33.11-2.jpeg
END:VEVENT
END:VCALENDAR