BEGIN:VCALENDAR
VERSION:2.0
PRODID:-//Godoy Cruz - ECPv4.5.8.1//NONSGML v1.0//EN
CALSCALE:GREGORIAN
METHOD:PUBLISH
X-WR-CALNAME:Godoy Cruz
X-ORIGINAL-URL:https://www.godoycruz.sisargentina.com
X-WR-CALDESC:Events for Godoy Cruz
BEGIN:VEVENT
DTSTART;TZID=UTC-3:20210327T180000
DTEND;TZID=UTC-3:20210327T180000
DTSTAMP:20260423T021748
CREATED:20210325T165835Z
LAST-MODIFIED:20210325T165835Z
UID:76093-1616868000-1616868000@www.godoycruz.sisargentina.com
SUMMARY:“Circuito Cultural Barrial”
DESCRIPTION:[vc_row][vc_column][vc_column_text]Espectáculos infantiles para toda la familia. \n“Rolando en el palacio de la tristeza”. \nElenco: Grupo del Sinfin. \nBarrio Villa del Parque (Boulevard San Vicente).[/vc_column_text][/vc_column][/vc_row][vc_row][vc_column][vc_single_image image=»76094″ img_size=»full»][/vc_column][/vc_row] \n
URL:https://www.godoycruz.sisargentina.com/evento/circuito-cultural-barrial-16/
ATTACH;FMTTYPE=image/jpeg:https://www.godoycruz.sisargentina.com/wp-content/uploads/2021/03/WhatsApp-Image-2021-03-25-at-09.19.32-1.jpeg
END:VEVENT
END:VCALENDAR