BEGIN:VCALENDAR
VERSION:2.0
PRODID:-//Godoy Cruz - ECPv4.5.8.1//NONSGML v1.0//EN
CALSCALE:GREGORIAN
METHOD:PUBLISH
X-WR-CALNAME:Godoy Cruz
X-ORIGINAL-URL:https://www.godoycruz.sisargentina.com
X-WR-CALDESC:Events for Godoy Cruz
BEGIN:VEVENT
DTSTART;TZID=UTC-3:20180805T150000
DTEND;TZID=UTC-3:20180805T150000
DTSTAMP:20260425T113343
CREATED:20180803T163644Z
LAST-MODIFIED:20180803T163644Z
UID:51590-1533481200-1533481200@www.godoycruz.sisargentina.com
SUMMARY:Circo Rodante por los barrios de Godoy Cruz
DESCRIPTION:[vc_row][vc_column][vc_column_text]Elencos artísticos. Malabares\, acrobacias\, payasos\, magia. Chocolate y tortitas. \nBº ATSA (Calles Macacha Güemes y René Favaloro). \nEntrada gratuita. \nDomingo 5 de agosto:[/vc_column_text][/vc_column][/vc_row][vc_row][vc_column][vc_single_image image=»51591″ img_size=»full»][/vc_column][/vc_row][vc_row][vc_column][vc_gmaps link=»#E-8_JTNDaWZyYW1lJTIwc3JjJTNEJTIyaHR0cHMlM0ElMkYlMkZ3d3cuZ29vZ2xlLmNvbSUyRm1hcHMlMkZlbWJlZCUzRnBiJTNEJTIxMW0xOCUyMTFtMTIlMjExbTMlMjExZDMzNDguMDYxNTc4ODMxNTM2MyUyMTJkLTY4LjgzMjc2NzI4NTE5ODI2JTIxM2QtMzIuOTQ5MzgzNTgwOTIwMjA1JTIxMm0zJTIxMWYwJTIxMmYwJTIxM2YwJTIxM20yJTIxMWkxMDI0JTIxMmk3NjglMjE0ZjEzLjElMjEzbTMlMjExbTIlMjExczB4OTY3ZTBiOTVkMjQ1ODIwNyUyNTNBMHhlYTcyMTU3ZGMxYmMzYjElMjEyc0NhbGxlJTJCTWFjYWNoYSUyQkclMjVDMyUyNUJDZW1lcyUyNTJDJTJCR29kb3klMkJDcnV6JTI1MkMlMkJNZW5kb3phJTIxNWUwJTIxM20yJTIxMXNlcy00MTklMjEyc2FyJTIxNHYxNTMzMjU4MjY1MTE2JTIyJTIwd2lkdGglM0QlMjI0MDAlMjIlMjBoZWlnaHQlM0QlMjIzMDAlMjIlMjBmcmFtZWJvcmRlciUzRCUyMjAlMjIlMjBzdHlsZSUzRCUyMmJvcmRlciUzQTAlMjIlMjBhbGxvd2Z1bGxzY3JlZW4lM0UlM0MlMkZpZnJhbWUlM0U=»][/vc_column][/vc_row] \n
URL:https://www.godoycruz.sisargentina.com/evento/circo-rodante-los-barrios-godoy-cruz-3/
ATTACH;FMTTYPE=image/jpeg:https://www.godoycruz.sisargentina.com/wp-content/uploads/2018/08/Circo-rodante-5-de-agosto.jpg
END:VEVENT
END:VCALENDAR