BEGIN:VCALENDAR
VERSION:2.0
PRODID:-//Godoy Cruz - ECPv4.5.8.1//NONSGML v1.0//EN
CALSCALE:GREGORIAN
METHOD:PUBLISH
X-WR-CALNAME:Godoy Cruz
X-ORIGINAL-URL:https://www.godoycruz.sisargentina.com
X-WR-CALDESC:Events for Godoy Cruz
BEGIN:VEVENT
DTSTART;TZID=UTC-3:20180804T150000
DTEND;TZID=UTC-3:20180804T150000
DTSTAMP:20260425T113352
CREATED:20180803T005401Z
LAST-MODIFIED:20180803T005401Z
UID:51585-1533394800-1533394800@www.godoycruz.sisargentina.com
SUMMARY:Circo Rodante por los barrios de Godoy Cruz
DESCRIPTION:[vc_row][vc_column][vc_column_text]Elencos artísticos. Malabares\, acrobacias\, payasos\, magia. Chocolate y tortitas. \nBº Sol y Sierra (Segundo Sombra y Dique Phillips). \nEntrada gratuita. \nSábado 4 de agosto:[/vc_column_text][/vc_column][/vc_row][vc_row][vc_column][vc_single_image image=»51586″ img_size=»full»][/vc_column][/vc_row][vc_row][vc_column][vc_gmaps link=»#E-8_JTNDaWZyYW1lJTIwc3JjJTNEJTIyaHR0cHMlM0ElMkYlMkZ3d3cuZ29vZ2xlLmNvbSUyRm1hcHMlMkZlbWJlZCUzRnBiJTNEJTIxMW0xOCUyMTFtMTIlMjExbTMlMjExZDMzNDguNjkwNzY4NzA3MTk5NCUyMTJkLTY4Ljg5MzI0NzE1NDIxMTU2JTIxM2QtMzIuOTMyNzY3NDA3NTM1MTclMjEybTMlMjExZjAlMjEyZjAlMjEzZjAlMjEzbTIlMjExaTEwMjQlMjEyaTc2OCUyMTRmMTMuMSUyMTNtMyUyMTFtMiUyMTFzMHg5NjdlMDlmN2VlYjQ0M2ZkJTI1M0EweDU0YzA2M2Q2YTNiOWZjODAlMjEyc1NlZ3VuZG8lMkJTb21icmElMkIlMjUyNiUyQkRpcXVlJTJCUGhpbGxpcHMlMjUyQyUyQk1lbmRvemElMjE1ZTAlMjEzbTIlMjExc2VzLTQxOSUyMTJzYXIlMjE0djE1MzMyNTc0NTMwNjAlMjIlMjB3aWR0aCUzRCUyMjQwMCUyMiUyMGhlaWdodCUzRCUyMjMwMCUyMiUyMGZyYW1lYm9yZGVyJTNEJTIyMCUyMiUyMHN0eWxlJTNEJTIyYm9yZGVyJTNBMCUyMiUyMGFsbG93ZnVsbHNjcmVlbiUzRSUzQyUyRmlmcmFtZSUzRQ==»][/vc_column][/vc_row] \n
URL:https://www.godoycruz.sisargentina.com/evento/circo-rodante-los-barrios-godoy-cruz-2/
ATTACH;FMTTYPE=image/jpeg:https://www.godoycruz.sisargentina.com/wp-content/uploads/2018/08/Circo-rodante-4-de-agosto.jpg
END:VEVENT
END:VCALENDAR