BEGIN:VCALENDAR
VERSION:2.0
PRODID:-//Godoy Cruz - ECPv4.5.8.1//NONSGML v1.0//EN
CALSCALE:GREGORIAN
METHOD:PUBLISH
X-WR-CALNAME:Godoy Cruz
X-ORIGINAL-URL:https://www.godoycruz.sisargentina.com
X-WR-CALDESC:Events for Godoy Cruz
BEGIN:VEVENT
DTSTART;TZID=UTC-3:20220410T170000
DTEND;TZID=UTC-3:20220410T170000
DTSTAMP:20260422T074526
CREATED:20220401T172953Z
LAST-MODIFIED:20220401T172953Z
UID:88174-1649610000-1649610000@www.godoycruz.sisargentina.com
SUMMARY:Circo Pocamosca festeja 10 años
DESCRIPTION:[vc_row][vc_column][vc_column_text]El duo de mimos y clowns cumple 10 años con un espectáculo impedible. \nArtistas: Roque y Pachi. \nEntrada: 1 alimento no perecedero por 1 ticket. \nCanje: Boletería del Teatro Plaza (Colón 27\, Godoy Cruz) el mismo día de la funcion. \nHorario de atención: de lunes a sábado\, de 9 a 18h. \nA beneficio del Comedor «Piedra Blanca». \nSe ruega puntualidad y cumplir con el protocolo sanitario vigente.[/vc_column_text][/vc_column][/vc_row][vc_row][vc_column][vc_single_image image=»88175″ img_size=»full»][/vc_column][/vc_row] \n
URL:https://www.godoycruz.sisargentina.com/evento/circo-pocamosca-festeja-10-anos/
LOCATION:Colón 27\, Godoy Cruz\, Mendoza\, 5501\, Argentina
ATTACH;FMTTYPE=image/jpeg:https://www.godoycruz.sisargentina.com/wp-content/uploads/2022/04/WhatsApp-Image-2022-03-28-at-1.18.15-PM-1.jpeg
END:VEVENT
END:VCALENDAR