BEGIN:VCALENDAR
VERSION:2.0
PRODID:-//Godoy Cruz - ECPv4.5.8.1//NONSGML v1.0//EN
CALSCALE:GREGORIAN
METHOD:PUBLISH
X-WR-CALNAME:Godoy Cruz
X-ORIGINAL-URL:https://www.godoycruz.sisargentina.com
X-WR-CALDESC:Events for Godoy Cruz
BEGIN:VEVENT
DTSTART;TZID=UTC-3:20171014T160000
DTEND;TZID=UTC-3:20171014T160000
DTSTAMP:20260426T024251
CREATED:20170930T024015Z
LAST-MODIFIED:20170930T024015Z
UID:42518-1507996800-1507996800@www.godoycruz.sisargentina.com
SUMMARY:Cine en el Recuerdo: Western
DESCRIPTION:[vc_row][vc_column][vc_column_text]Película: “El oro de Mackenna”\, con Gregory Peck y Omar Sharif.[/vc_column_text][vc_single_image image=»42505″ img_size=»full»][/vc_column][/vc_row][vc_row][vc_column][vc_gmaps link=»#E-8_JTNDaWZyYW1lJTIwc3JjJTNEJTIyaHR0cHMlM0ElMkYlMkZ3d3cuZ29vZ2xlLmNvbSUyRm1hcHMlMkZlbWJlZCUzRnBiJTNEJTIxMW0xOCUyMTFtMTIlMjExbTMlMjExZDMzNDkuMjk0NjAxNzExNzU1JTIxMmQtNjguODU5MzE0NTg1MTk5MTYlMjEzZC0zMi45MTY4MTM4ODA5MzAwNiUyMTJtMyUyMTFmMCUyMTJmMCUyMTNmMCUyMTNtMiUyMTFpMTAyNCUyMTJpNzY4JTIxNGYxMy4xJTIxM20zJTIxMW0yJTIxMXMweDk2N2UwOTc4MWY2NTNhNmIlMjUzQTB4ZGE0NDA2MDljNmEwOTBhOCUyMTJzQ2FzYSUyQmRlJTJCbG9zJTJCQWJ1ZWxvcyUyQkdvZG95JTJCQ3J1eiUyMTVlMCUyMTNtMiUyMTFzZXMtNDE5JTIxMnNhciUyMTR2MTUwNjczOTAzMjYwNyUyMiUyMHdpZHRoJTNEJTIyNjAwJTIyJTIwaGVpZ2h0JTNEJTIyNDUwJTIyJTIwZnJhbWVib3JkZXIlM0QlMjIwJTIyJTIwc3R5bGUlM0QlMjJib3JkZXIlM0EwJTIyJTIwYWxsb3dmdWxsc2NyZWVuJTNFJTNDJTJGaWZyYW1lJTNF»][/vc_column][/vc_row] \n
URL:https://www.godoycruz.sisargentina.com/evento/cine-recuerdo-western-2/
ATTACH;FMTTYPE=image/jpeg:https://www.godoycruz.sisargentina.com/wp-content/uploads/2017/09/WEB-cine-en-el-recuerdo-OCTjpg-1.jpg
END:VEVENT
END:VCALENDAR