BEGIN:VCALENDAR
VERSION:2.0
PRODID:-//Godoy Cruz - ECPv4.5.8.1//NONSGML v1.0//EN
CALSCALE:GREGORIAN
METHOD:PUBLISH
X-WR-CALNAME:Godoy Cruz
X-ORIGINAL-URL:https://www.godoycruz.sisargentina.com
X-WR-CALDESC:Events for Godoy Cruz
BEGIN:VEVENT
DTSTART;TZID=UTC-3:20240120T210000
DTEND;TZID=UTC-3:20240120T210000
DTSTAMP:20260420T202743
CREATED:20240117T153133Z
LAST-MODIFIED:20240117T153133Z
UID:106762-1705784400-1705784400@www.godoycruz.sisargentina.com
SUMMARY:Cine en la terraza - “Ghibli\, a cielo abierto”
DESCRIPTION:[vc_row][vc_column][vc_column_text]Será un recorrido por las películas del emblemático estudio del cineasta japonés Hayao Miyazaki\, quien ha creado algunas de las obras cinematográficas más reconocidas de la animación a nivel mundial. \nPelícula: “Nausicaä del Valle del Viento”.\nDirección: Hayao Miyazaki\nGuion: Hayao Miyazaki Manga: Hayao Miyazaki\nIntérpretes: Sumi Shimamoto\, Mahito Tsujimura\, Hisako Kyôda\nPaís: Japón\nAño: 1984\nDuración: 117 min.\nCalificación: ATP\nSinopsis: La princesa Nausicaä lucha desesperadamente por evitar que dos naciones en guerra se destruyan a sí mismas.\nCoordina: Cineclub Stocco. \nEntrada gratuita.[/vc_column_text][/vc_column][/vc_row][vc_row][vc_column][vc_single_image image=»106763″ img_size=»full»][/vc_column][/vc_row] \n
URL:https://www.godoycruz.sisargentina.com/evento/cine-la-terraza-ghibli-cielo-abierto/
LOCATION:Tomba 54\, Godoy Cruz\, Mendoza\, 5501\, Argentina
ATTACH;FMTTYPE=image/jpeg:https://www.godoycruz.sisargentina.com/wp-content/uploads/2024/01/420096082_700014605550276_3699549569332311996_n.jpg
END:VEVENT
END:VCALENDAR