BEGIN:VCALENDAR
VERSION:2.0
PRODID:-//Godoy Cruz - ECPv4.5.8.1//NONSGML v1.0//EN
CALSCALE:GREGORIAN
METHOD:PUBLISH
X-WR-CALNAME:Godoy Cruz
X-ORIGINAL-URL:https://www.godoycruz.sisargentina.com
X-WR-CALDESC:Events for Godoy Cruz
BEGIN:VEVENT
DTSTART;TZID=UTC-3:20240210T210000
DTEND;TZID=UTC-3:20240210T210000
DTSTAMP:20260420T151219
CREATED:20240201T163236Z
LAST-MODIFIED:20240201T163236Z
UID:107107-1707598800-1707598800@www.godoycruz.sisargentina.com
SUMMARY:Cine en la terraza - “Ghibli\, a cielo abierto”
DESCRIPTION:[vc_row][vc_column][vc_column_text]Será un recorrido por las películas del emblemático estudio del cineasta japonés Hayao Miyazaki\, quien ha creado algunas de las obras cinematográficas más reconocidas de la animación a nivel mundial. \nPelícula: “El increíble castillo vagabundo”.\nDirección: Hayao Miyazaki\nGuion: Hayao Miyazaki\, Diana Wynne Jones\nIntérpretes: Chieko Baishô\, Takuya Kimura\, Tatsuya Gashûin\nPaís: Japón\nAño: 2004\nDuración: 119 min.\nCalificación: ATP\nSinopsis: Una joven sin confianza en sí misma es maldecida con un cuerpo envejecido por una bruja odiosa. Su única oportunidad de romper el hechizo es un joven brujo\nen un castillo ambulante.\nCoordina: Cineclub Stocco.\nEntrada gratuita.[/vc_column_text][/vc_column][/vc_row][vc_row][vc_column][vc_single_image image=»107108″ img_size=»full»][/vc_column][/vc_row] \n
URL:https://www.godoycruz.sisargentina.com/evento/cine-la-terraza-ghibli-cielo-abierto-4/
LOCATION:Tomba 54\, Godoy Cruz\, Mendoza\, 5501\, Argentina
ATTACH;FMTTYPE=image/jpeg:https://www.godoycruz.sisargentina.com/wp-content/uploads/2024/02/WhatsApp-Image-2024-02-01-at-12.08.21-PM.jpeg
END:VEVENT
END:VCALENDAR