BEGIN:VCALENDAR
VERSION:2.0
PRODID:-//Godoy Cruz - ECPv4.5.8.1//NONSGML v1.0//EN
CALSCALE:GREGORIAN
METHOD:PUBLISH
X-WR-CALNAME:Godoy Cruz
X-ORIGINAL-URL:https://www.godoycruz.sisargentina.com
X-WR-CALDESC:Events for Godoy Cruz
BEGIN:VEVENT
DTSTART;TZID=UTC-3:20240203T210000
DTEND;TZID=UTC-3:20240203T210000
DTSTAMP:20260420T165557
CREATED:20240201T155549Z
LAST-MODIFIED:20240201T155549Z
UID:107104-1706994000-1706994000@www.godoycruz.sisargentina.com
SUMMARY:Cine en la terraza - “Ghibli\, a cielo abierto”
DESCRIPTION:[vc_row][vc_column][vc_column_text]Será un recorrido por las películas del emblemático estudio del cineasta japonés Hayao Miyazaki\, quien ha creado algunas de las obras cinematográficas más reconocidas de la animación a nivel mundial. \nPelícula: “Porco Rosso”\nDirección: Hayao Miyazaki\nGuion: Hayao Miyazaki\nIntérpretes: Shûichirô Moriyama\, Tokiko Katô\, Bunshi Katsura Vi\nPaís: Japón\nAño: 1992\nDuración: 94 min.\nCalificación: ATP\nSinopsis: En la Italia de la década de 1930\, un piloto veterano de la Primera Guerra Mundial sufre una maldición: tener aspecto de cerdo antropomórfico.\nCoordina: Cineclub Stocco.\nEntrada gratuita.[/vc_column_text][/vc_column][/vc_row][vc_row][vc_column][vc_single_image image=»107105″ img_size=»full»][/vc_column][/vc_row] \n
URL:https://www.godoycruz.sisargentina.com/evento/cine-la-terraza-ghibli-cielo-abierto-3/
LOCATION:Tomba 54\, Godoy Cruz\, Mendoza\, 5501\, Argentina
ATTACH;FMTTYPE=image/jpeg:https://www.godoycruz.sisargentina.com/wp-content/uploads/2024/02/WhatsApp-Image-2024-02-01-at-12.08.20-PM.jpeg
END:VEVENT
END:VCALENDAR