BEGIN:VCALENDAR
VERSION:2.0
PRODID:-//Godoy Cruz - ECPv4.5.8.1//NONSGML v1.0//EN
CALSCALE:GREGORIAN
METHOD:PUBLISH
X-WR-CALNAME:Godoy Cruz
X-ORIGINAL-URL:https://www.godoycruz.sisargentina.com
X-WR-CALDESC:Events for Godoy Cruz
BEGIN:VEVENT
DTSTART;TZID=UTC-3:20230225T210000
DTEND;TZID=UTC-3:20230225T210000
DTSTAMP:20260421T154652
CREATED:20230223T162258Z
LAST-MODIFIED:20230223T162258Z
UID:97805-1677358800-1677358800@www.godoycruz.sisargentina.com
SUMMARY:Cine en la Terraza
DESCRIPTION:[vc_row][vc_column][vc_column_text]Grandes clásicos de la comedia para disfrutar al aire libre. \nPelícula:»Mujeres al Borde de un Ataque de Nervios»\, de Pedro Almodóvar. \nBiblioteca+ Mediateca «Manuel Belgrano».[/vc_column_text][/vc_column][/vc_row][vc_row][vc_column][vc_single_image image=»97806″ img_size=»full»][/vc_column][/vc_row] \n
URL:https://www.godoycruz.sisargentina.com/evento/cine-la-terraza-2/
LOCATION:Tomba 54\, Godoy Cruz\, Mendoza\, 5501\, Argentina
ATTACH;FMTTYPE=image/jpeg:https://www.godoycruz.sisargentina.com/wp-content/uploads/2023/02/332337253_745114726941192_1077379929221201929_n.jpg
END:VEVENT
END:VCALENDAR