BEGIN:VCALENDAR
VERSION:2.0
PRODID:-//Godoy Cruz - ECPv4.5.8.1//NONSGML v1.0//EN
CALSCALE:GREGORIAN
METHOD:PUBLISH
X-WR-CALNAME:Godoy Cruz
X-ORIGINAL-URL:https://www.godoycruz.sisargentina.com
X-WR-CALDESC:Events for Godoy Cruz
BEGIN:VEVENT
DTSTART;TZID=UTC-3:20180121T200000
DTEND;TZID=UTC-3:20180121T200000
DTSTAMP:20260425T194145
CREATED:20180119T021306Z
LAST-MODIFIED:20180119T021929Z
UID:46251-1516564800-1516564800@www.godoycruz.sisargentina.com
SUMMARY:Cine Infantil
DESCRIPTION:[vc_row][vc_column][vc_column_text]Películas en el Domo del Museo Ferroviario. 20:00. Entrada gratuita (cupos limitados) \nProyección de: «El Rey León” (The Lion King). Animación. 1994. EEUU. 85 min. ATP \nDirección: Rob Minkoff\, Roger Allers \nParque Estación Benegas ( Av. del Trabajo y Panamericana)[/vc_column_text][/vc_column][/vc_row][vc_row][vc_column][vc_single_image image=»46252″ img_size=»full»][/vc_column][/vc_row][vc_row][vc_column][vc_gmaps link=»#E-8_JTNDaWZyYW1lJTIwc3JjJTNEJTIyaHR0cHMlM0ElMkYlMkZ3d3cuZ29vZ2xlLmNvbSUyRm1hcHMlMkZlbWJlZCUzRnBiJTNEJTIxMW0xOCUyMTFtMTIlMjExbTMlMjExZDY2OTUuODk0ODYzMjMxNDE0JTIxMmQtNjguODU4MDc2MTY3ODE5MTYlMjEzZC0zMi45NTIzOTcyNzk1MDgzNSUyMTJtMyUyMTFmMCUyMTJmMCUyMTNmMCUyMTNtMiUyMTFpMTAyNCUyMTJpNzY4JTIxNGYxMy4xJTIxM20zJTIxMW0yJTIxMXMweDk2N2UwYmI0MTY3M2FhZDUlMjUzQTB4NGQ2YjczZDkwZmY1ZmNhZiUyMTJzUGFycXVlJTJCRXN0YWNpb24lMkJCZW5lZ2FzJTIxNWUwJTIxM20yJTIxMXNlcy00MTklMjEyc2FyJTIxNHYxNTE2MzI2NzA4MTQ2JTIyJTIwd2lkdGglM0QlMjI0MDAlMjIlMjBoZWlnaHQlM0QlMjIzMDAlMjIlMjBmcmFtZWJvcmRlciUzRCUyMjAlMjIlMjBzdHlsZSUzRCUyMmJvcmRlciUzQTAlMjIlMjBhbGxvd2Z1bGxzY3JlZW4lM0UlM0MlMkZpZnJhbWUlM0U=»][/vc_column][/vc_row] \n
URL:https://www.godoycruz.sisargentina.com/evento/cine-infantil/
ATTACH;FMTTYPE=image/jpeg:https://www.godoycruz.sisargentina.com/wp-content/uploads/2018/01/Gráfica-cine-verano.jpg
END:VEVENT
END:VCALENDAR