BEGIN:VCALENDAR
VERSION:2.0
PRODID:-//Godoy Cruz - ECPv4.5.8.1//NONSGML v1.0//EN
CALSCALE:GREGORIAN
METHOD:PUBLISH
X-WR-CALNAME:Godoy Cruz
X-ORIGINAL-URL:https://www.godoycruz.sisargentina.com
X-WR-CALDESC:Events for Godoy Cruz
BEGIN:VEVENT
DTSTART;TZID=UTC-3:20180225T210000
DTEND;TZID=UTC-3:20180225T210000
DTSTAMP:20260425T193323
CREATED:20180222T182142Z
LAST-MODIFIED:20180222T182142Z
UID:47073-1519592400-1519592400@www.godoycruz.sisargentina.com
SUMMARY:Cine Infantil
DESCRIPTION:[vc_row][vc_column][vc_column_text]Películas en el Domo del Museo Ferroviario. 21:00. Entrada gratuita (cupos limitados) \nProyección de: “El viaje de Chihiro” («Sen to Chihiro no kamikakushi»).2001. Japón. 124 min. ATP. Animación. \nDirección: Hayao Miyazaki \nParque Estación Benegas ( Av. del Trabajo y Panamericana)[/vc_column_text][/vc_column][/vc_row][vc_row][vc_column][vc_single_image image=»47074″ img_size=»full»][/vc_column][/vc_row][vc_row][vc_column][vc_gmaps link=»#E-8_JTNDaWZyYW1lJTIwc3JjJTNEJTIyaHR0cHMlM0ElMkYlMkZ3d3cuZ29vZ2xlLmNvbSUyRm1hcHMlMkZlbWJlZCUzRnBiJTNEJTIxMW0xOCUyMTFtMTIlMjExbTMlMjExZDMzNDcuOTkwOTkwMjUxMjgxMyUyMTJkLTY4Ljg1Njk1NjI4NTMxMjY1JTIxM2QtMzIuOTUxMjQ3Mjc5NDUwMjQlMjEybTMlMjExZjAlMjEyZjAlMjEzZjAlMjEzbTIlMjExaTEwMjQlMjEyaTc2OCUyMTRmMTMuMSUyMTNtMyUyMTFtMiUyMTFzMHg5NjdlMGJiNDRkNmI3MTg5JTI1M0EweGYwZmVlYWRkNGZjMjE5MGIlMjEyc1BhcnF1ZSUyQkJlbmVnYXMlMjUyQyUyQkdvZG95JTJCQ3J1eiUyMTVlMCUyMTNtMiUyMTFzZXMtNDE5JTIxMnNhciUyMTR2MTUxOTMyMjExNDU4NSUyMiUyMHdpZHRoJTNEJTIyNDAwJTIyJTIwaGVpZ2h0JTNEJTIyMzAwJTIyJTIwZnJhbWVib3JkZXIlM0QlMjIwJTIyJTIwc3R5bGUlM0QlMjJib3JkZXIlM0EwJTIyJTIwYWxsb3dmdWxsc2NyZWVuJTNFJTNDJTJGaWZyYW1lJTNF»][/vc_column][/vc_row] \n
URL:https://www.godoycruz.sisargentina.com/evento/cine-infantil-6/
ATTACH;FMTTYPE=image/jpeg:https://www.godoycruz.sisargentina.com/wp-content/uploads/2018/02/Chihiro.jpg
END:VEVENT
END:VCALENDAR