BEGIN:VCALENDAR
VERSION:2.0
PRODID:-//Godoy Cruz - ECPv4.5.8.1//NONSGML v1.0//EN
CALSCALE:GREGORIAN
METHOD:PUBLISH
X-WR-CALNAME:Godoy Cruz
X-ORIGINAL-URL:https://www.godoycruz.sisargentina.com
X-WR-CALDESC:Events for Godoy Cruz
BEGIN:VEVENT
DTSTART;TZID=UTC-3:20180218T210000
DTEND;TZID=UTC-3:20180218T210000
DTSTAMP:20260425T180301
CREATED:20180215T165623Z
LAST-MODIFIED:20180215T165623Z
UID:46874-1518987600-1518987600@www.godoycruz.sisargentina.com
SUMMARY:Cine Infantil
DESCRIPTION:[vc_row][vc_column][vc_column_text]Películas en el Domo del Museo Ferroviario. 21:00. Entrada gratuita (cupos limitados) \nProyección de: «Toy Story» .1995. EEUU. 80 min. ATP. Animación. \nDirección: John Lasseter \nParque Estación Benegas ( Av. del Trabajo y Panamericana)[/vc_column_text][/vc_column][/vc_row][vc_row][vc_column][vc_single_image image=»46875″ img_size=»full»][/vc_column][/vc_row][vc_row][vc_column][vc_gmaps link=»#E-8_JTNDaWZyYW1lJTIwc3JjJTNEJTIyaHR0cHMlM0ElMkYlMkZ3d3cuZ29vZ2xlLmNvbSUyRm1hcHMlMkZlbWJlZCUzRnBiJTNEJTIxMW0xOCUyMTFtMTIlMjExbTMlMjExZDMzNDcuOTQ3NDMxNjE1NzA2NiUyMTJkLTY4Ljg1NTg4NzQ4NTMxMjY0JTIxM2QtMzIuOTUyMzk3Mjc5NTA4MzU0JTIxMm0zJTIxMWYwJTIxMmYwJTIxM2YwJTIxM20yJTIxMWkxMDI0JTIxMmk3NjglMjE0ZjEzLjElMjEzbTMlMjExbTIlMjExczB4OTY3ZTBiYjQxNjczYWFkNSUyNTNBMHg0ZDZiNzNkOTBmZjVmY2FmJTIxMnNQYXJxdWUlMkJFc3RhY2lvbiUyQkJlbmVnYXMlMjE1ZTAlMjEzbTIlMjExc2VzJTIxMnNhciUyMTR2MTUxODcxMjc1MDEwNyUyMiUyMHdpZHRoJTNEJTIyNDAwJTIyJTIwaGVpZ2h0JTNEJTIyMzAwJTIyJTIwZnJhbWVib3JkZXIlM0QlMjIwJTIyJTIwc3R5bGUlM0QlMjJib3JkZXIlM0EwJTIyJTIwYWxsb3dmdWxsc2NyZWVuJTNFJTNDJTJGaWZyYW1lJTNF»][/vc_column][/vc_row] \n
URL:https://www.godoycruz.sisargentina.com/evento/cine-infantil-5/
ATTACH;FMTTYPE=image/jpeg:https://www.godoycruz.sisargentina.com/wp-content/uploads/2018/02/toy_story_wallpaper_by_artifypics-d5gss19.jpg
END:VEVENT
END:VCALENDAR