BEGIN:VCALENDAR
VERSION:2.0
PRODID:-//Godoy Cruz - ECPv4.5.8.1//NONSGML v1.0//EN
CALSCALE:GREGORIAN
METHOD:PUBLISH
X-WR-CALNAME:Godoy Cruz
X-ORIGINAL-URL:https://www.godoycruz.sisargentina.com
X-WR-CALDESC:Events for Godoy Cruz
BEGIN:VEVENT
DTSTART;TZID=UTC-3:20171201T210000
DTEND;TZID=UTC-3:20171201T210000
DTSTAMP:20260425T223016
CREATED:20171128T163251Z
LAST-MODIFIED:20171128T163251Z
UID:44587-1512162000-1512162000@www.godoycruz.sisargentina.com
SUMMARY:Cine en el Museo
DESCRIPTION:[vc_row][vc_column][vc_column_text]Proyección del cortometraje “La canoa de Ulises”\, de Diego Fió: Primer Premio de ficción MO 2017. \nPosteriormente\, “Solo se vive una vez”. (Argentina\, 2017). Acción. 90 min. +13 \nLugar: Domo Ferroviario (Parque Benegas).[/vc_column_text][/vc_column][/vc_row][vc_row][vc_column][vc_single_image image=»44588″ img_size=»full»][/vc_column][/vc_row][vc_row][vc_column][vc_gmaps link=»#E-8_JTNDaWZyYW1lJTIwc3JjJTNEJTIyaHR0cHMlM0ElMkYlMkZ3d3cuZ29vZ2xlLmNvbSUyRm1hcHMlMkZlbWJlZCUzRnBiJTNEJTIxMW0xOCUyMTFtMTIlMjExbTMlMjExZDMzNDcuOTQ3MjYxMTEyNzg2NyUyMTJkLTY4Ljg1NTg4NzQ4NTE5ODIlMjEzZC0zMi45NTI0MDE3ODA5MTkzMjQlMjEybTMlMjExZjAlMjEyZjAlMjEzZjAlMjEzbTIlMjExaTEwMjQlMjEyaTc2OCUyMTRmMTMuMSUyMTNtMyUyMTFtMiUyMTFzMHg5NjdlMGJiNDE2NzNhYWQ1JTI1M0EweDRkNmI3M2Q5MGZmNWZjYWYlMjEyc1BhcnF1ZSUyQkVzdGFjaW9uJTJCQmVuZWdhcyUyMTVlMCUyMTNtMiUyMTFzZXMtNDE5JTIxMnNhciUyMTR2MTUxMTg4NjUxNjExNCUyMiUyMHdpZHRoJTNEJTIyNjAwJTIyJTIwaGVpZ2h0JTNEJTIyNDUwJTIyJTIwZnJhbWVib3JkZXIlM0QlMjIwJTIyJTIwc3R5bGUlM0QlMjJib3JkZXIlM0EwJTIyJTIwYWxsb3dmdWxsc2NyZWVuJTNFJTNDJTJGaWZyYW1lJTNF»][/vc_column][/vc_row] \n
URL:https://www.godoycruz.sisargentina.com/evento/cine-en-el-museo-3/
ATTACH;FMTTYPE=image/jpeg:https://www.godoycruz.sisargentina.com/wp-content/uploads/2017/11/IMG-20171128-WA0001-1.jpg
END:VEVENT
END:VCALENDAR