BEGIN:VCALENDAR
VERSION:2.0
PRODID:-//Godoy Cruz - ECPv4.5.8.1//NONSGML v1.0//EN
CALSCALE:GREGORIAN
METHOD:PUBLISH
X-WR-CALNAME:Godoy Cruz
X-ORIGINAL-URL:https://www.godoycruz.sisargentina.com
X-WR-CALDESC:Events for Godoy Cruz
BEGIN:VEVENT
DTSTART;TZID=UTC-3:20210407T190000
DTEND;TZID=UTC-3:20210407T190000
DTSTAMP:20260423T004803
CREATED:20210407T161633Z
LAST-MODIFIED:20210407T161633Z
UID:76458-1617822000-1617822000@www.godoycruz.sisargentina.com
SUMMARY:Cine del Recuerdo
DESCRIPTION:[vc_row][vc_column][vc_column_text]Cine del Recuerdo presenta: “El golpe”\, con Paul Newman. \nEntrada gratuita. \nCupos limitados. \nSe recuerda cumplir con el protocolo sanitario.[/vc_column_text][/vc_column][/vc_row][vc_row][vc_column][vc_single_image image=»76459″ img_size=»full»][/vc_column][/vc_row] \n
URL:https://www.godoycruz.sisargentina.com/evento/cine-del-recuerdo-7/
LOCATION:Colón 27\, Godoy Cruz\, Mendoza\, 5501\, Argentina
ATTACH;FMTTYPE=image/jpeg:https://www.godoycruz.sisargentina.com/wp-content/uploads/2021/04/WhatsApp-Image-2021-04-07-at-09.07.29.jpeg
END:VEVENT
END:VCALENDAR